BEGIN:VCALENDAR
VERSION:2.0
PRODID:-//Student Employment - ECPv5.15.0.1//NONSGML v1.0//EN
CALSCALE:GREGORIAN
METHOD:PUBLISH
X-WR-CALNAME:Student Employment
X-ORIGINAL-URL:https://inside.ewu.edu/student-employment
X-WR-CALDESC:Events for Student Employment
BEGIN:VTIMEZONE
TZID:America/Denver
BEGIN:DAYLIGHT
TZOFFSETFROM:-0700
TZOFFSETTO:-0600
TZNAME:MDT
DTSTART:20190310T090000
END:DAYLIGHT
BEGIN:STANDARD
TZOFFSETFROM:-0600
TZOFFSETTO:-0700
TZNAME:MST
DTSTART:20191103T080000
END:STANDARD
END:VTIMEZONE
BEGIN:VEVENT
DTSTART;TZID=America/Denver:20190516T090000
DTEND;TZID=America/Denver:20190516T140000
DTSTAMP:20260423T064618
CREATED:20190313T180920Z
LAST-MODIFIED:20190610T195536Z
UID:1225-1557997200-1558015200@inside.ewu.edu
SUMMARY:SOAR Career Conference
DESCRIPTION:About the Conference:\nThe SOAR Career Conference aims to support EWU students\, as they learn about exciting and innovative strategies forming in traditional and up-and-coming ﬁelds from industry leaders. \nBy participating in this conference\, students will learn from seasoned professionals about new advancements that will promote more efficient strategies to their relative industries. Students will be able to experience new professional development opportunities and will be exposed to a variety of industry insights that will be more prevalent in the future. \nSpeakers:\n\nKent Kristensen\, CEO Messenger Bank\nKent Kristensen’s philosophy is to help all. He is a banking pioneer with more than 30 years of finance and banking experience. Twenty years ago\, he disrupted the remittance industry by creating Club World Connect in 1999\, which he later sold in 2009. Using his experience and knowledge\, he is moving towards his life-long goal\, the creation of Messengerbank\, the kindest bank in the world. \n\n  \n  \nSteve Melnik\, Host Happiness Amplified™ Program\nSteven Melnik is a #1 best-selling author\, international keynote speaker\, distinguished professor\, CPA\, a president of a national bar association\, personal/ professional success coach\, and a host of the widely distributed Steven Melnik Happiness Amplified™ program. Mr. Melnik serves as an advisor to various government entities and represents interests of multinational business and non-profit organizations worldwide. \n\n\n  \n  \nCost:\nGeneral: $50  (Click here to RSVP)\nNon-EWU Students: $15 (Click here to RSVP)\nEWU Student/Staff:  Free (RSVP on Handshake)\n  \nClick Here For More Information
URL:https://inside.ewu.edu/student-employment/date/soar-career-conference/
LOCATION:Pence Union Building – NCR\, 526 5th St\, Cheney\, WA\, 99004\, United States
CATEGORIES:Jobs and Internships
ORGANIZER;CN="EWU%20Career%20Center":MAILTO:careers@ewu.edu
END:VEVENT
END:VCALENDAR