BEGIN:VCALENDAR
VERSION:2.0
PRODID:-//Get Lit! Festival - ECPv5.15.0.1//NONSGML v1.0//EN
CALSCALE:GREGORIAN
METHOD:PUBLISH
X-WR-CALNAME:Get Lit! Festival
X-ORIGINAL-URL:https://inside.ewu.edu/getlit
X-WR-CALDESC:Events for Get Lit! Festival
BEGIN:VTIMEZONE
TZID:America/Los_Angeles
BEGIN:DAYLIGHT
TZOFFSETFROM:-0800
TZOFFSETTO:-0700
TZNAME:PDT
DTSTART:20250309T100000
END:DAYLIGHT
BEGIN:STANDARD
TZOFFSETFROM:-0700
TZOFFSETTO:-0800
TZNAME:PST
DTSTART:20251102T090000
END:STANDARD
END:VTIMEZONE
BEGIN:VEVENT
DTSTART;TZID=America/Los_Angeles:20250128T173000
DTEND;TZID=America/Los_Angeles:20250128T190000
DTSTAMP:20260419T082341
CREATED:20241007T174403Z
LAST-MODIFIED:20241007T174403Z
UID:13764-1738085400-1738090800@inside.ewu.edu
SUMMARY:Teen Write Club
DESCRIPTION:TUESDAYS · 5:30 – 7 PM\nTeens · Teen Write Club is a place for teen writers to let their voices be heard\, get feedback on their work\, and explore all things prose and poetry. Tired of analyzing similes and metaphors? Come up with some of your own! Get ready to hone your writing skills\, discuss the ins and outs of craft\, and\, of course\, WRITE. \nThis program is free thanks to community support. Join us for Teen Write Club on any Tuesday! \nPosted in Drop-In\, Community Programs\nTagged writing\, creative arts\, literature
URL:https://inside.ewu.edu/getlit/event/teen-write-club/2025-01-28/
LOCATION:Spark Central\, 1214 W Summit Pkwy\, Spokane\, Washington\, 99201
CATEGORIES:Drop In and Write
END:VEVENT
BEGIN:VEVENT
DTSTART;TZID=America/Los_Angeles:20250128T173000
DTEND;TZID=America/Los_Angeles:20250128T190000
DTSTAMP:20260419T082341
CREATED:20250130T004057Z
LAST-MODIFIED:20250130T004057Z
UID:13688-1738085400-1738090800@inside.ewu.edu
SUMMARY:Poetry After Dark
DESCRIPTION:TUESDAYS · 5:30 – 7 PM IN THE SPARK CENTRAL STUDIO\nAdults · Join us for a workshop catered to driven poets. Eastern Washington University MFA students will lead us in discussions about craft elements\, style\, and form. If you’re a poet seeking a critical lens to improve your work with a dedicated group of fellow readers and writers\, come find your spark! \nThis program is free thanks to community support. Join us for Poetry After Dark in the Spark Central Studio every Tuesday! \nPosted in Drop-In\, Community Programs\nTagged writing\, creative arts\, literature
URL:https://inside.ewu.edu/getlit/event/poetry-after-dark-2/
LOCATION:Spark Central\, 1214 W Summit Pkwy\, Spokane\, Washington\, 99201
END:VEVENT
BEGIN:VEVENT
DTSTART;TZID=America/Los_Angeles:20250128T190000
DTEND;TZID=America/Los_Angeles:20250128T210000
DTSTAMP:20260419T082341
CREATED:20250130T010019Z
LAST-MODIFIED:20250130T010019Z
UID:13747-1738090800-1738098000@inside.ewu.edu
SUMMARY:"Sinkhole and Other Inexplicable Voids" by Leyna Krow in conversation with Aileen Keown Vaux!
DESCRIPTION:Come on down to Auntie’s to enjoy the latest from beloved local author Leyna Krow\, Sinkhole and Other Inexplicable Voids! She will be in conversation with fellow local-ish author Aileen Keown Vaux. \nTuesday\, January 28th at 7PM at Auntie’s Bookstore\n(402 W Main Ave)  \nThis event is free and open to the public.\nRSVP via the button to the right. \nAbout the book \nWhat do we owe our family and friends in times of wild uncertainty? \nThat’s the question the women of Leyna Krow’s beguiling\, darkly fabulist story collection grapple with as they strive to be good mothers\, daughters\, sisters\, grandmothers\, wives\, and companions in a world that is constantly shifting around them. Set in the Pacific Northwest\, these stories blend high concept magic with the sometimes subtle\, other times glaring\, realities of climate change. \nAs protagonists contend with doppelgänger babies\, hordes of time travelers\, mysterious portals\, and supernatural siblings\, there lurks in the background the effects of the region’s rapidly shifting environment. There are wildfires\, wind storms\, unrelenting heat\, disrupted butterfly migration patterns\, a new plague\, and a catastrophe on the slopes of Mount Rainier that reverberates through three generations of a single family over the course of a half dozen linked stories. \nWith Krow’s signature blend of sardonic whimsy and unsettling insight\, Sinkhole\, and Other Inexplicable Voids imagines the rules to be broken\, choices to be made\, and even crimes to be had for the sake of the people\, and places\, we love. \nAbout the author \nLeyna Krow is the author of the novel Fire Season\, which was longlisted for the Center for Fiction First Novel Prize\, and the short story collection I’m Fine\, But You Appear to Be Sinking\, which was a Believer Book Award finalist. She lives in Spokane\, Washington\, with her husband and two children. \nAbout Aileen Keown Vaux \nAileen Keown Vaux is a queer poet and essayist whose chapbook Consolation Prize was published by Scablands Books. Their poems can be found in Faultline Journal\, Roanoke Review\, Northwest Review\, and Portland Review. They live and work in Portland\, OR.
URL:https://inside.ewu.edu/getlit/event/sinkhole-and-other-inexplicable-voids-by-leyna-krow-in-conversation-with-aileen-keown-vaux/
LOCATION:Auntie’s Bookstore\, 402 West Main Ave\, Spokane\, Washington
CATEGORIES:Panel Discussion,Reading
END:VEVENT
END:VCALENDAR