BEGIN:VCALENDAR
VERSION:2.0
PRODID:-//EWU Faculty Commons - ECPv5.15.0.1//NONSGML v1.0//EN
CALSCALE:GREGORIAN
METHOD:PUBLISH
X-WR-CALNAME:EWU Faculty Commons
X-ORIGINAL-URL:https://inside.ewu.edu/facultycommons
X-WR-CALDESC:Events for EWU Faculty Commons
BEGIN:VTIMEZONE
TZID:America/Los_Angeles
BEGIN:DAYLIGHT
TZOFFSETFROM:-0800
TZOFFSETTO:-0700
TZNAME:PDT
DTSTART:20250309T100000
END:DAYLIGHT
BEGIN:STANDARD
TZOFFSETFROM:-0700
TZOFFSETTO:-0800
TZNAME:PST
DTSTART:20251102T090000
END:STANDARD
END:VTIMEZONE
BEGIN:VEVENT
DTSTART;TZID=America/Los_Angeles:20250121T110000
DTEND;TZID=America/Los_Angeles:20250121T130000
DTSTAMP:20260419T092652
CREATED:20241230T170351Z
LAST-MODIFIED:20241230T170351Z
UID:36001-1737457200-1737464400@inside.ewu.edu
SUMMARY:Faculty Drop-in Questions on Budget Planning and Development
DESCRIPTION:Faculty Drop-In Hours for Questions on Budget Planning and Development\nFaculty members\, as you begin to outline and develop your upcoming budget plans for Fiscal Year 2025 budget requests\, the Office of Academic Affairs & the Faculty Commons are here to support you. We are pleased to announce Faculty Budget Planning and Development Drop-In Hours at the Faculty Commons\, providing an open and collegial space to ask or address any questions related to your current or upcoming budget plan along with any other budget and finance questions you may have.\n \nWhether you need assistance understanding budget guidelines\, planning assumptions\, navigating resource allocations\, or strategizing for your financial needs\, we’re here to help. We’ll be prepared to assist you with:\n•	Budget Guidelines and Requirements: Understanding university planning assumptions\, policies\, and expectations for budget submissions.\n•	Strategic Resource Allocation: Identifying and prioritizing resources to align with departmental\, college\, and the university strategic plan.\n•	Forecasting and Planning: Projecting financial needs for instructional support\, research initiatives\, and program growth.\n•	Fund/Index-Level Management: Clarifying the specifics of managing budgets at the index level to ensure compliance and efficiency.\n•	Expense Tracking and Reporting: Best practices for monitoring expenditures and preparing financial reports.\n•	Collaboration Across Units: Coordinating financial plans with colleges\, departments\, or administrative units.\n•	Other items? Bring any questions you may have!\n \n \nDetails:\n•	When: January 16th 2025\, 11am to 1pm\n•	Where: In-person @ Faculty Commons or video call or messaging/video conference via TEAMS (search: Paul Weed)\n•	What to Bring: Questions…any budget of financial related questions\, draft budget plans\, budget ideas/initiatives.\n \nThis is a great opportunity to receive personalized guidance\, clarify uncertainties\, and ensure your budget requests align with the program\, center\, department\, school\, college\, division or university’s strategic plan goals and requirements. We look forward to partnering with you in the success of your fiscal planning efforts!\n \nIf you have questions or need additional information\, please contact Cindy Nover (Faculty Commons Director) @ cnover@ewu.edu or Paul Weed (Academic Affairs Director of Planning & Budget) @ pweed@ewu.edu.
URL:https://inside.ewu.edu/facultycommons/event/faculty-drop-in-questions-on-budget-planning-and-development/2025-01-21/
END:VEVENT
BEGIN:VEVENT
DTSTART;TZID=America/Los_Angeles:20250121T120000
DTEND;TZID=America/Los_Angeles:20250121T130000
DTSTAMP:20260419T092652
CREATED:20250102T180808Z
LAST-MODIFIED:20250113T174030Z
UID:35921-1737460800-1737464400@inside.ewu.edu
SUMMARY:Dr. Joan Braune from Gonzaga University on Countering Fascism and Hate Groups and the Impact on Higher Ed
DESCRIPTION:
URL:https://inside.ewu.edu/facultycommons/event/dr-joan-braun-from-gonzaga-university-on-countering-fascism-and-hate-groups-and-the-impact-on-higher-ed/
LOCATION:Faculty Commons or Zoom
END:VEVENT
BEGIN:VEVENT
DTSTART;TZID=America/Los_Angeles:20250121T130000
DTEND;TZID=America/Los_Angeles:20250121T140000
DTSTAMP:20260419T092652
CREATED:20241203T212205Z
LAST-MODIFIED:20241203T212205Z
UID:35857-1737464400-1737468000@inside.ewu.edu
SUMMARY:Math Success Team
DESCRIPTION:
URL:https://inside.ewu.edu/facultycommons/event/math-success-team-4/
LOCATION:Faculty Commons\, 506 F St\, Cheney\, WA\, 99004\, United States
CATEGORIES:Meetings
GEO:47.48876;-117.57978
X-APPLE-STRUCTURED-LOCATION;VALUE=URI;X-ADDRESS=Faculty Commons 506 F St Cheney WA 99004 United States;X-APPLE-RADIUS=500;X-TITLE=506 F St:geo:-117.57978,47.48876
END:VEVENT
BEGIN:VEVENT
DTSTART;TZID=America/Los_Angeles:20250121T143000
DTEND;TZID=America/Los_Angeles:20250121T153000
DTSTAMP:20260419T092652
CREATED:20250113T172235Z
LAST-MODIFIED:20250113T172235Z
UID:35961-1737469800-1737473400@inside.ewu.edu
SUMMARY:CAT 126 Airplane Mode
DESCRIPTION:
URL:https://inside.ewu.edu/facultycommons/event/cat-126-airplane-mode-2/2025-01-21/
LOCATION:CAT 126
END:VEVENT
END:VCALENDAR