BEGIN:VCALENDAR
VERSION:2.0
PRODID:-//EWU Faculty Commons - ECPv5.15.0.1//NONSGML v1.0//EN
CALSCALE:GREGORIAN
METHOD:PUBLISH
X-WR-CALNAME:EWU Faculty Commons
X-ORIGINAL-URL:https://inside.ewu.edu/facultycommons
X-WR-CALDESC:Events for EWU Faculty Commons
BEGIN:VTIMEZONE
TZID:America/Los_Angeles
BEGIN:DAYLIGHT
TZOFFSETFROM:-0800
TZOFFSETTO:-0700
TZNAME:PDT
DTSTART:20250309T100000
END:DAYLIGHT
BEGIN:STANDARD
TZOFFSETFROM:-0700
TZOFFSETTO:-0800
TZNAME:PST
DTSTART:20251102T090000
END:STANDARD
END:VTIMEZONE
BEGIN:VEVENT
DTSTART;TZID=America/Los_Angeles:20250117T110000
DTEND;TZID=America/Los_Angeles:20250117T120000
DTSTAMP:20260419T151355
CREATED:20241231T202806Z
LAST-MODIFIED:20250106T170828Z
UID:35911-1737111600-1737115200@inside.ewu.edu
SUMMARY:Reading Group on Academic Ableism by Jay Dolmage
DESCRIPTION:Facilitated by Ryan Parrey\, Disability Studies and Cindy Nover\, Social Work/Faculty Commons
URL:https://inside.ewu.edu/facultycommons/event/reading-group-on-academic-ableism-by-jay-dolage/
LOCATION:Faculty Commons or Zoom
END:VEVENT
END:VCALENDAR