BEGIN:VCALENDAR
VERSION:2.0
PRODID:-//EWU Faculty Commons - ECPv5.15.0.1//NONSGML v1.0//EN
CALSCALE:GREGORIAN
METHOD:PUBLISH
X-WR-CALNAME:EWU Faculty Commons
X-ORIGINAL-URL:https://inside.ewu.edu/facultycommons
X-WR-CALDESC:Events for EWU Faculty Commons
BEGIN:VTIMEZONE
TZID:America/Los_Angeles
BEGIN:DAYLIGHT
TZOFFSETFROM:-0800
TZOFFSETTO:-0700
TZNAME:PDT
DTSTART:20230312T100000
END:DAYLIGHT
BEGIN:STANDARD
TZOFFSETFROM:-0700
TZOFFSETTO:-0800
TZNAME:PST
DTSTART:20231105T090000
END:STANDARD
END:VTIMEZONE
BEGIN:VEVENT
DTSTART;TZID=America/Los_Angeles:20230207T130000
DTEND;TZID=America/Los_Angeles:20230207T140000
DTSTAMP:20260425T041228
CREATED:20230206T204852Z
LAST-MODIFIED:20230206T204852Z
UID:21447-1675774800-1675778400@inside.ewu.edu
SUMMARY:Zoom: Classroom Chat Absenteeism
DESCRIPTION:To access Zoom\, download the app for free or go to https://zoom.us/join and input the Faculty Common’s Meeting ID#: 946-833-6002
URL:https://inside.ewu.edu/facultycommons/event/zoom-classroom-chat-absenteeism/
END:VEVENT
END:VCALENDAR