BEGIN:VCALENDAR
VERSION:2.0
PRODID:-//EWU Faculty Commons - ECPv5.15.0.1//NONSGML v1.0//EN
CALSCALE:GREGORIAN
METHOD:PUBLISH
X-WR-CALNAME:EWU Faculty Commons
X-ORIGINAL-URL:https://inside.ewu.edu/facultycommons
X-WR-CALDESC:Events for EWU Faculty Commons
BEGIN:VTIMEZONE
TZID:America/Los_Angeles
BEGIN:DAYLIGHT
TZOFFSETFROM:-0800
TZOFFSETTO:-0700
TZNAME:PDT
DTSTART:20230312T100000
END:DAYLIGHT
BEGIN:STANDARD
TZOFFSETFROM:-0700
TZOFFSETTO:-0800
TZNAME:PST
DTSTART:20231105T090000
END:STANDARD
END:VTIMEZONE
BEGIN:VEVENT
DTSTART;TZID=America/Los_Angeles:20230406T120000
DTEND;TZID=America/Los_Angeles:20230406T130000
DTSTAMP:20260423T122935
CREATED:20230329T204443Z
LAST-MODIFIED:20230329T204749Z
UID:21490-1680782400-1680786000@inside.ewu.edu
SUMMARY:Dr. Veronica Trapani\, World Languages in Washington State
DESCRIPTION:APP.Veronica Trapani-April 6th
URL:https://inside.ewu.edu/facultycommons/event/veronica-trapani-world-languages-program-supervisor-in-washington-state/
LOCATION:Faculty Commons or Zoom
END:VEVENT
END:VCALENDAR