BEGIN:VCALENDAR
VERSION:2.0
PRODID:-//EWU Faculty Commons - ECPv5.15.0.1//NONSGML v1.0//EN
CALSCALE:GREGORIAN
METHOD:PUBLISH
X-WR-CALNAME:EWU Faculty Commons
X-ORIGINAL-URL:https://inside.ewu.edu/facultycommons
X-WR-CALDESC:Events for EWU Faculty Commons
BEGIN:VTIMEZONE
TZID:America/Los_Angeles
BEGIN:DAYLIGHT
TZOFFSETFROM:-0800
TZOFFSETTO:-0700
TZNAME:PDT
DTSTART:20230312T100000
END:DAYLIGHT
BEGIN:STANDARD
TZOFFSETFROM:-0700
TZOFFSETTO:-0800
TZNAME:PST
DTSTART:20231105T090000
END:STANDARD
END:VTIMEZONE
BEGIN:VEVENT
DTSTART;TZID=America/Los_Angeles:20230504T140000
DTEND;TZID=America/Los_Angeles:20230504T160000
DTSTAMP:20260423T194658
CREATED:20230419T173849Z
LAST-MODIFIED:20230424T162223Z
UID:21537-1683208800-1683216000@inside.ewu.edu
SUMMARY:First Year Seminar Kick-Off Meeting
DESCRIPTION:
URL:https://inside.ewu.edu/facultycommons/event/first-year-seminar-ay23-24/
END:VEVENT
END:VCALENDAR