BEGIN:VCALENDAR
VERSION:2.0
PRODID:-//EWU Faculty Commons - ECPv5.15.0.1//NONSGML v1.0//EN
CALSCALE:GREGORIAN
METHOD:PUBLISH
X-WR-CALNAME:EWU Faculty Commons
X-ORIGINAL-URL:https://inside.ewu.edu/facultycommons
X-WR-CALDESC:Events for EWU Faculty Commons
BEGIN:VTIMEZONE
TZID:America/Los_Angeles
BEGIN:DAYLIGHT
TZOFFSETFROM:-0800
TZOFFSETTO:-0700
TZNAME:PDT
DTSTART:20190310T100000
END:DAYLIGHT
BEGIN:STANDARD
TZOFFSETFROM:-0700
TZOFFSETTO:-0800
TZNAME:PST
DTSTART:20191103T090000
END:STANDARD
END:VTIMEZONE
BEGIN:VEVENT
DTSTART;TZID=America/Los_Angeles:20190531T130000
DTEND;TZID=America/Los_Angeles:20190531T140000
DTSTAMP:20260419T085433
CREATED:20190529T185137Z
LAST-MODIFIED:20190529T185137Z
UID:20048-1559307600-1559311200@inside.ewu.edu
SUMMARY:Cribbage with Colleagues
DESCRIPTION:
URL:https://inside.ewu.edu/facultycommons/event/cribbage-with-colleagues/2019-05-31/
LOCATION:Cheney\, WA\, 99004\, United States
CATEGORIES:Special Event
END:VEVENT
END:VCALENDAR