BEGIN:VCALENDAR
VERSION:2.0
PRODID:-//EWU Faculty Commons - ECPv5.15.0.1//NONSGML v1.0//EN
CALSCALE:GREGORIAN
METHOD:PUBLISH
X-WR-CALNAME:EWU Faculty Commons
X-ORIGINAL-URL:https://inside.ewu.edu/facultycommons
X-WR-CALDESC:Events for EWU Faculty Commons
BEGIN:VTIMEZONE
TZID:America/Los_Angeles
BEGIN:DAYLIGHT
TZOFFSETFROM:-0800
TZOFFSETTO:-0700
TZNAME:PDT
DTSTART:20240310T100000
END:DAYLIGHT
BEGIN:STANDARD
TZOFFSETFROM:-0700
TZOFFSETTO:-0800
TZNAME:PST
DTSTART:20241103T090000
END:STANDARD
END:VTIMEZONE
BEGIN:VEVENT
DTSTART;TZID=America/Los_Angeles:20240227T120000
DTEND;TZID=America/Los_Angeles:20240227T130000
DTSTAMP:20260422T051119
CREATED:20240122T202645Z
LAST-MODIFIED:20240221T204016Z
UID:21788-1709035200-1709038800@inside.ewu.edu
SUMMARY:CAT 172: Listening Session with Dr. Scott Finnie
DESCRIPTION:
URL:https://inside.ewu.edu/facultycommons/event/cat-listening-session-with-dr-scott-finnie/
END:VEVENT
END:VCALENDAR