BEGIN:VCALENDAR
VERSION:2.0
PRODID:-//EWU Faculty Commons - ECPv5.15.0.1//NONSGML v1.0//EN
CALSCALE:GREGORIAN
METHOD:PUBLISH
X-WR-CALNAME:EWU Faculty Commons
X-ORIGINAL-URL:https://inside.ewu.edu/facultycommons
X-WR-CALDESC:Events for EWU Faculty Commons
BEGIN:VTIMEZONE
TZID:America/Los_Angeles
BEGIN:DAYLIGHT
TZOFFSETFROM:-0800
TZOFFSETTO:-0700
TZNAME:PDT
DTSTART:20230312T100000
END:DAYLIGHT
BEGIN:STANDARD
TZOFFSETFROM:-0700
TZOFFSETTO:-0800
TZNAME:PST
DTSTART:20231105T090000
END:STANDARD
END:VTIMEZONE
BEGIN:VEVENT
DTSTART;TZID=America/Los_Angeles:20230413T120000
DTEND;TZID=America/Los_Angeles:20230413T130000
DTSTAMP:20260423T121849
CREATED:20230327T165731Z
LAST-MODIFIED:20230413T164634Z
UID:21479-1681387200-1681390800@inside.ewu.edu
SUMMARY:CANCELED: Budget 101
DESCRIPTION:
URL:https://inside.ewu.edu/facultycommons/event/budget-101-2/
CATEGORIES:Meetings
END:VEVENT
END:VCALENDAR