BEGIN:VCALENDAR
VERSION:2.0
PRODID:-//Facilities and Planning - ECPv5.15.0.1//NONSGML v1.0//EN
CALSCALE:GREGORIAN
METHOD:PUBLISH
X-WR-CALNAME:Facilities and Planning
X-ORIGINAL-URL:https://inside.ewu.edu/facilities
X-WR-CALDESC:Events for Facilities and Planning
BEGIN:VTIMEZONE
TZID:America/Los_Angeles
BEGIN:DAYLIGHT
TZOFFSETFROM:-0800
TZOFFSETTO:-0700
TZNAME:PDT
DTSTART:20170312T100000
END:DAYLIGHT
BEGIN:STANDARD
TZOFFSETFROM:-0700
TZOFFSETTO:-0800
TZNAME:PST
DTSTART:20171105T090000
END:STANDARD
END:VTIMEZONE
BEGIN:VEVENT
DTSTART;TZID=America/Los_Angeles:20170308T080000
DTEND;TZID=America/Los_Angeles:20170308T090000
DTSTAMP:20260424T104315
CREATED:20170302T185535Z
LAST-MODIFIED:20170302T185535Z
UID:1499-1488960000-1488963600@inside.ewu.edu
SUMMARY:UFC Meeting
DESCRIPTION:Review Customer Request 30498
URL:https://inside.ewu.edu/facilities/event/ufc-meeting/2017-03-08/
CATEGORIES:UFC
END:VEVENT
END:VCALENDAR