BEGIN:VCALENDAR
VERSION:2.0
PRODID:-//Facilities and Planning - ECPv5.15.0.1//NONSGML v1.0//EN
CALSCALE:GREGORIAN
METHOD:PUBLISH
X-WR-CALNAME:Facilities and Planning
X-ORIGINAL-URL:https://inside.ewu.edu/facilities
X-WR-CALDESC:Events for Facilities and Planning
BEGIN:VTIMEZONE
TZID:America/Los_Angeles
BEGIN:DAYLIGHT
TZOFFSETFROM:-0800
TZOFFSETTO:-0700
TZNAME:PDT
DTSTART:20180311T100000
END:DAYLIGHT
BEGIN:STANDARD
TZOFFSETFROM:-0700
TZOFFSETTO:-0800
TZNAME:PST
DTSTART:20181104T090000
END:STANDARD
END:VTIMEZONE
BEGIN:VEVENT
DTSTART;TZID=America/Los_Angeles:20180111T140000
DTEND;TZID=America/Los_Angeles:20180111T150000
DTSTAMP:20260424T092012
CREATED:20171013T165922Z
LAST-MODIFIED:20171013T165922Z
UID:2195-1515679200-1515682800@inside.ewu.edu
SUMMARY:UFC Meeting
DESCRIPTION:
URL:https://inside.ewu.edu/facilities/event/ufc-meeting-3/2018-01-11/
LOCATION:PAT 344
CATEGORIES:UFC
END:VEVENT
END:VCALENDAR