BEGIN:VCALENDAR
VERSION:2.0
PRODID:-//Facilities and Planning - ECPv5.15.0.1//NONSGML v1.0//EN
CALSCALE:GREGORIAN
METHOD:PUBLISH
X-WR-CALNAME:Facilities and Planning
X-ORIGINAL-URL:https://inside.ewu.edu/facilities
X-WR-CALDESC:Events for Facilities and Planning
BEGIN:VTIMEZONE
TZID:America/Los_Angeles
BEGIN:DAYLIGHT
TZOFFSETFROM:-0800
TZOFFSETTO:-0700
TZNAME:PDT
DTSTART:20180311T100000
END:DAYLIGHT
BEGIN:STANDARD
TZOFFSETFROM:-0700
TZOFFSETTO:-0800
TZNAME:PST
DTSTART:20181104T090000
END:STANDARD
END:VTIMEZONE
BEGIN:VEVENT
DTSTART;TZID=America/Los_Angeles:20180723T103000
DTEND;TZID=America/Los_Angeles:20180723T120000
DTSTAMP:20260421T025322
CREATED:20180613T192640Z
LAST-MODIFIED:20180613T192640Z
UID:2494-1532341800-1532347200@inside.ewu.edu
SUMMARY:Interdisciplinary Science Center Groundbreaking
DESCRIPTION:Please join EWU President Mary Cullinan\, Washington state legislators\, and the EWU campus community to celebrate the groundbreaking of the new Interdisciplinary Science Center. \nLocated on the EWU campus in Cheney\, this four-level\, 101\,352 square-foot teaching laboratory will sit between the existing Science Building and the Pence Union Building. \n10:30 a.m. | Groundbreaking ceremony at NE corner of Science Building\n11:00 a.m. | Science Building tour \nParking available on Washington Street in parking lot P-9 (south side of Roos Field) \nPeople needing accommodation should contact Misty Jensen at 509.359.3115 or mjensen19@ewu.edu by Wednesday\, July 18.
URL:https://inside.ewu.edu/facilities/event/interdisciplinary-science-center-groundbreaking/
LOCATION:Rozell Conference Room\, 1115 Cedar Street\, Cheney\, WA\, 99004\, United States
GEO:47.4941125;-117.5857403
X-APPLE-STRUCTURED-LOCATION;VALUE=URI;X-ADDRESS=Rozell Conference Room 1115 Cedar Street Cheney WA 99004 United States;X-APPLE-RADIUS=500;X-TITLE=1115 Cedar Street:geo:-117.5857403,47.4941125
END:VEVENT
END:VCALENDAR