BEGIN:VCALENDAR
VERSION:2.0
PRODID:-//Facilities and Planning - ECPv5.15.0.1//NONSGML v1.0//EN
CALSCALE:GREGORIAN
METHOD:PUBLISH
X-WR-CALNAME:Facilities and Planning
X-ORIGINAL-URL:https://inside.ewu.edu/facilities
X-WR-CALDESC:Events for Facilities and Planning
BEGIN:VTIMEZONE
TZID:America/Los_Angeles
BEGIN:DAYLIGHT
TZOFFSETFROM:-0800
TZOFFSETTO:-0700
TZNAME:PDT
DTSTART:20170312T100000
END:DAYLIGHT
BEGIN:STANDARD
TZOFFSETFROM:-0700
TZOFFSETTO:-0800
TZNAME:PST
DTSTART:20171105T090000
END:STANDARD
END:VTIMEZONE
BEGIN:VEVENT
DTSTART;TZID=America/Los_Angeles:20170524T131500
DTEND;TZID=America/Los_Angeles:20170524T150000
DTSTAMP:20260424T085731
CREATED:20170504T163834Z
LAST-MODIFIED:20170504T163834Z
UID:1861-1495631700-1495638000@inside.ewu.edu
SUMMARY:EWU 2017 Water Forum
DESCRIPTION:Campus Community: \nEastern Washington University’s yearly Water Forum is scheduled for May 24\, 2017 at 1:15 p.m. in Tawanka 215 B&C. Please join Eastern’s water staff to find out how we have been using and conserving our campus water this past year. Your input and ideas are welcome. \nWe hope to see you on Wednesday\, May 24th. \nThank you!
URL:https://inside.ewu.edu/facilities/event/ewu-yearly-water-forum/
LOCATION:Tawanka 215 B&C
END:VEVENT
END:VCALENDAR