BEGIN:VCALENDAR
VERSION:2.0
PRODID:-//Facilities and Planning - ECPv5.15.0.1//NONSGML v1.0//EN
CALSCALE:GREGORIAN
METHOD:PUBLISH
X-WR-CALNAME:Facilities and Planning
X-ORIGINAL-URL:https://inside.ewu.edu/facilities
X-WR-CALDESC:Events for Facilities and Planning
BEGIN:VTIMEZONE
TZID:America/Los_Angeles
BEGIN:DAYLIGHT
TZOFFSETFROM:-0800
TZOFFSETTO:-0700
TZNAME:PDT
DTSTART:20200308T100000
END:DAYLIGHT
BEGIN:STANDARD
TZOFFSETFROM:-0700
TZOFFSETTO:-0800
TZNAME:PST
DTSTART:20201101T090000
END:STANDARD
END:VTIMEZONE
BEGIN:VEVENT
DTSTART;TZID=America/Los_Angeles:20200206T110000
DTEND;TZID=America/Los_Angeles:20200206T120000
DTSTAMP:20260424T061212
CREATED:20200122T232815Z
LAST-MODIFIED:20200122T233149Z
UID:3043-1580986800-1580990400@inside.ewu.edu
SUMMARY:CP1022 - CHENEY HALL STORM DRAINAGE - PRE-BID CONFERENCE
DESCRIPTION:A mon-mandatory pre-bid conference and site walkthrough will take place at the Eastern Washington University – Cheney Campus on Thursday\, February 6\, 2020 at 11:00 A.M. in order to establish full extent of the work. \nProspective Bidders shall meet at the Rozell Plant – Construction & Planning Conference Room\, Eastern Washington University\, 1115 Cedar St.\, Cheney\, Washington  99004. \nDate:             Thursday\, February 6 at 11:00 A.M.\,\n \nLocation:      Eastern Washington University\, Rozell Plant – Conference Room\, 1115 Cedar St.\, Cheney\, Washington  99004. \nWork of the Project includes the construction of a storm drainage main for the Cheney Hall roof drains\, including grading\, curbing\, sidewalks\, ADA ramp\, pavement\, electrical\, and other related items. \nAll BIDDERS MUST be on the official QuestCDN plan holders list to submit a bid. \nSee QuestCDN Project #6663989 for complete bidding information related to this project. \nClick the links below for: \n\nBid Opening\nCP1022_Ad for Bid
URL:https://inside.ewu.edu/facilities/event/cp1022-cheney-hall-storm-drainage-pre-bid-conference/
LOCATION:Rozell Conference Room\, 1115 Cedar Street\, Cheney\, WA\, 99004\, United States
GEO:47.4941125;-117.5857403
X-APPLE-STRUCTURED-LOCATION;VALUE=URI;X-ADDRESS=Rozell Conference Room 1115 Cedar Street Cheney WA 99004 United States;X-APPLE-RADIUS=500;X-TITLE=1115 Cedar Street:geo:-117.5857403,47.4941125
END:VEVENT
END:VCALENDAR