BEGIN:VCALENDAR
VERSION:2.0
PRODID:-//Facilities and Planning - ECPv5.15.0.1//NONSGML v1.0//EN
CALSCALE:GREGORIAN
METHOD:PUBLISH
X-WR-CALNAME:Facilities and Planning
X-ORIGINAL-URL:https://inside.ewu.edu/facilities
X-WR-CALDESC:Events for Facilities and Planning
BEGIN:VTIMEZONE
TZID:America/Los_Angeles
BEGIN:DAYLIGHT
TZOFFSETFROM:-0800
TZOFFSETTO:-0700
TZNAME:PDT
DTSTART:20190310T100000
END:DAYLIGHT
BEGIN:STANDARD
TZOFFSETFROM:-0700
TZOFFSETTO:-0800
TZNAME:PST
DTSTART:20191103T090000
END:STANDARD
END:VTIMEZONE
BEGIN:VEVENT
DTSTART;TZID=America/Los_Angeles:20190726T150000
DTEND;TZID=America/Los_Angeles:20190726T150000
DTSTAMP:20260424T061203
CREATED:20190709T215930Z
LAST-MODIFIED:20190709T215930Z
UID:2857-1564153200-1564153200@inside.ewu.edu
SUMMARY:Albers Court Improvement - Architectural/Engineering Design and Construction Phase Services - RFQ
DESCRIPTION:Request for Qualifications – Architectural/Engineering Design and Construction Phase Services for Albers Court Improvement\nVisit Questcdn.com. Enter Project Number #6438619 into the Project Number search field.\n\nBy downloading the free project advertisement\, you will be added to the plan holders list which ensures automatic project updates\, notifications and award results.\n\nProject:\nEastern Washington University seeks architectural/engineering design and construction phase services for the renovation of Albers Court Improvement project. The proposed project scope will be to enclose a 10\,000 square foot open-air courtyard bordered by covered walkways serving a multi-building complex containing physical education\, student recreation and athletic facilities. The project is intended to maximize the opportunities for growth and expansion of the Athletic Training program while meeting other academic\, athletic and storage needs. The anticipated Maximum Allowable Cost of Construction (MACC) is $3.4M. Per the requirements of RCW 39.94.020\, this project must be designed\, constructed\, and certified to at least the LEED silver standard. \nScope of Service:\nPre-design services will be performed by the University and a written program will be made available to the chosen consulting firm at the conclusion of the selection process. The University is seeking proposals from qualified architectural firms. Applicants should only include information in their proposals pertaining to their own firm’s experience and qualifications and not for any sub-consultants that they may use on the project. Sub-consultants will be chosen at the discretion of the selected consultant with the owner’s approval. \nSubmittal Requirements:\nSubmittals must be received at the Construction and Planning Services Office\, 1115 Cedar St\, Rozell Plant\, Eastern Washington University\, Cheney\, WA 99004-2464\, by 3:00 p.m.\, Friday\, July 26\, 2019. \nConsultant selection will be based on EWU’s established procedures. To be considered for selection\, prospective consultants are to provide: \n\nProvide five (5) copies and one (1) electronic .pdf on CD or thumb drive containing;\n\nCover letter; sub-sections addressing the four criteria for selection which are\n\n(a) Qualifications of Key Personnel\,\n(b) Relevant Experience\,\n(c) Performance on Previous Projects\,\n(d) Firm’s Ability to Perform Requested Services;\nCompleted Federal Standard Form 330.\n\n\n\n\nPlease be concise and do not include information that does not pertain/relate to this project\n\nSelection Process: \nVoluntary MWBE goals of 10% minority\, 6% women\, and 5% WA small business and 5% veteran-owned business have been established for this project. Achievement of the goals is encouraged. However\, no minimum level of MWBE participation is required and such goals will not be used as a criterion for selecting contractors. EWU is an affirmative action employer. \nA/E Selection procedures are available on the EWU website for Construction and Planning Services at: https://inside.ewu.edu/facilities/events/category/rfq/ \nEWU Contacts: \nAdditional information and questions shall be directed to Jim Moeller\, Senior Project Manager\, at (509) 951-8840.
URL:https://inside.ewu.edu/facilities/event/albers-court-improvement-architectural-engineering-design-and-construction-phase-services-rfq/
LOCATION:Rozell Conference Room\, 1115 Cedar Street\, Cheney\, WA\, 99004\, United States
CATEGORIES:RFQ
GEO:47.4941125;-117.5857403
X-APPLE-STRUCTURED-LOCATION;VALUE=URI;X-ADDRESS=Rozell Conference Room 1115 Cedar Street Cheney WA 99004 United States;X-APPLE-RADIUS=500;X-TITLE=1115 Cedar Street:geo:-117.5857403,47.4941125
END:VEVENT
END:VCALENDAR