BEGIN:VCALENDAR
VERSION:2.0
PRODID:-//Facilities and Planning - ECPv5.15.0.1//NONSGML v1.0//EN
CALSCALE:GREGORIAN
METHOD:PUBLISH
X-WR-CALNAME:Facilities and Planning
X-ORIGINAL-URL:https://inside.ewu.edu/facilities
X-WR-CALDESC:Events for Facilities and Planning
BEGIN:VTIMEZONE
TZID:America/Los_Angeles
BEGIN:DAYLIGHT
TZOFFSETFROM:-0800
TZOFFSETTO:-0700
TZNAME:PDT
DTSTART:20160313T100000
END:DAYLIGHT
BEGIN:STANDARD
TZOFFSETFROM:-0700
TZOFFSETTO:-0800
TZNAME:PST
DTSTART:20161106T090000
END:STANDARD
END:VTIMEZONE
BEGIN:VEVENT
DTSTART;TZID=America/Los_Angeles:20160518T080000
DTEND;TZID=America/Los_Angeles:20160518T130000
DTSTAMP:20260424T092030
CREATED:20160518T205943Z
LAST-MODIFIED:20160518T205943Z
UID:1293-1463558400-1463576400@inside.ewu.edu
SUMMARY:AE1492GC - Fire Alarm Upgrades 2016 MAR/WLM - Ad for Bid
DESCRIPTION:See QuestCDN 4453629 Project for additional information related to this project
URL:https://inside.ewu.edu/facilities/event/ae1492gc-fire-alarm-upgrades-2016-marwlm-ad-for-bid/
LOCATION:Rozell Conference Room\, 1115 Cedar Street\, Cheney\, WA\, 99004\, United States
GEO:47.4941125;-117.5857403
X-APPLE-STRUCTURED-LOCATION;VALUE=URI;X-ADDRESS=Rozell Conference Room 1115 Cedar Street Cheney WA 99004 United States;X-APPLE-RADIUS=500;X-TITLE=1115 Cedar Street:geo:-117.5857403,47.4941125
END:VEVENT
END:VCALENDAR