BEGIN:VCALENDAR
VERSION:2.0
PRODID:-//Facilities and Planning - ECPv5.15.0.1//NONSGML v1.0//EN
CALSCALE:GREGORIAN
METHOD:PUBLISH
X-WR-CALNAME:Facilities and Planning
X-ORIGINAL-URL:https://inside.ewu.edu/facilities
X-WR-CALDESC:Events for Facilities and Planning
BEGIN:VTIMEZONE
TZID:America/Los_Angeles
BEGIN:DAYLIGHT
TZOFFSETFROM:-0800
TZOFFSETTO:-0700
TZNAME:PDT
DTSTART:20170312T100000
END:DAYLIGHT
BEGIN:STANDARD
TZOFFSETFROM:-0700
TZOFFSETTO:-0800
TZNAME:PST
DTSTART:20171105T090000
END:STANDARD
END:VTIMEZONE
BEGIN:VEVENT
DTSTART;TZID=America/Los_Angeles:20170720T150000
DTEND;TZID=America/Los_Angeles:20170720T170000
DTSTAMP:20260424T084715
CREATED:20170710T151659Z
LAST-MODIFIED:20170710T151659Z
UID:2006-1500562800-1500570000@inside.ewu.edu
SUMMARY:AE1484G4 - EWU - Chiller Plant Modernization - Ad for Bid - Bid Opening
DESCRIPTION:See QuestCDN Project # 5223805 for complete bidding information related to this project. \n001 Advertisement for Bid \n\nSUBMITTAL DATE/TIME/LOCATION:\n\nTHURSDAY\, JULY 20\, 2017\nPRIOR TO 3:00 P.M.\nEWU\, ROZELL PLANT\, CHENEY\, WA 99004\n\n\n\nThe Pre-Bid Conference is MANDATORY: \n\nTUESDAY\, JULY 11\, 2017\n\n2:00 PM. Bidders shall meet at Rozell Plant Lobby\, Eastern Washington University \, Cheney\, Washington 99004\n\nALL BIDDERS MUST be on the official QuestCDN plan holders list to submit a bid. (see advertisement)
URL:https://inside.ewu.edu/facilities/event/ae1484g4-ewu-chiller-plant-modernization-ad-for-bid/
LOCATION:Rozell Conference Room\, 1115 Cedar Street\, Cheney\, WA\, 99004\, United States
GEO:47.4941125;-117.5857403
X-APPLE-STRUCTURED-LOCATION;VALUE=URI;X-ADDRESS=DESCRIPTION:See QuestCDN Project # 5223805 for complete bidding information related to this project. \n001 Advertisement for Bid \n\nSUBMITTAL DATE/TIME/\n\nTHURSDAY JULY 20 2017\nPRIOR TO 3:00 P.M.\nEWU ROZELL PLANT CHENEY WA 99004\n\n\n\nThe Pre-Bid Conference is MANDATORY: \n\nTUESDAY JULY 11 2017\n\n2:00 PM. Bidders shall meet at Rozell Plant Lobby Eastern Washington University  Cheney Washington 99004\n\nALL BIDDERS MUST be on the official QuestCDN plan holders list to submit a bid. (see advertisement);X-APPLE-RADIUS=500;X-TITLE=1115 Cedar Street:geo:-117.5857403,47.4941125
END:VEVENT
END:VCALENDAR