BEGIN:VCALENDAR
VERSION:2.0
PRODID:-//Facilities and Planning - ECPv5.15.0.1//NONSGML v1.0//EN
CALSCALE:GREGORIAN
METHOD:PUBLISH
X-WR-CALNAME:Facilities and Planning
X-ORIGINAL-URL:https://inside.ewu.edu/facilities
X-WR-CALDESC:Events for Facilities and Planning
BEGIN:VTIMEZONE
TZID:America/Los_Angeles
BEGIN:DAYLIGHT
TZOFFSETFROM:-0800
TZOFFSETTO:-0700
TZNAME:PDT
DTSTART:20170312T100000
END:DAYLIGHT
BEGIN:STANDARD
TZOFFSETFROM:-0700
TZOFFSETTO:-0800
TZNAME:PST
DTSTART:20171105T090000
END:STANDARD
END:VTIMEZONE
BEGIN:VEVENT
DTSTART;TZID=America/Los_Angeles:20170727T130000
DTEND;TZID=America/Los_Angeles:20170727T140000
DTSTAMP:20260424T092030
CREATED:20170719T203252Z
LAST-MODIFIED:20170719T203252Z
UID:2080-1501160400-1501164000@inside.ewu.edu
SUMMARY:AE1464GC -EWU- Interdisciplinary Science Center - Pre-Bid Conference - Request for Bid Withdrawn
DESCRIPTION:The Pre-Bid Conference is non-mandatory: \n\nTHURSDAY\, JULY 27\, 2017\n\n1:00 PM. Bidders shall meet at Patterson Hall room 128  Eastern Washington University\, Cheney\, Washington 99004\n\n\nThe request for bid proposals for Eastern Washington University Project # AE1464GC – Interdisciplinary Science Center (ISC) has been withdrawn until further notice.\n\nQuestCDN #5275882.\nNew updated digital project bidding documents (construction drawings and specifications) will be available when the project is re-advertised.\nPlease direct questions regarding this project to EWU  Project Manager Troy Bester  (tbester@ewu.edu) or (509).359.2204.
URL:https://inside.ewu.edu/facilities/event/ae1464gc-ewu-interdisciplinary-science-center-ad-for-bid-pre-bid-conference/
LOCATION:PAT128\, Patterson Hall\, Cheney\, Washington\, 99004\, United States
CATEGORIES:Pre-Bid Conference
GEO:47.4919256;-117.5818916
X-APPLE-STRUCTURED-LOCATION;VALUE=URI;X-ADDRESS=PAT128 Patterson Hall Cheney Washington 99004 United States;X-APPLE-RADIUS=500;X-TITLE=Patterson Hall:geo:-117.5818916,47.4919256
END:VEVENT
END:VCALENDAR