BEGIN:VCALENDAR
VERSION:2.0
PRODID:-//Facilities and Planning - ECPv5.15.0.1//NONSGML v1.0//EN
CALSCALE:GREGORIAN
METHOD:PUBLISH
X-WR-CALNAME:Facilities and Planning
X-ORIGINAL-URL:https://inside.ewu.edu/facilities
X-WR-CALDESC:Events for Facilities and Planning
BEGIN:VTIMEZONE
TZID:America/Los_Angeles
BEGIN:DAYLIGHT
TZOFFSETFROM:-0800
TZOFFSETTO:-0700
TZNAME:PDT
DTSTART:20160313T100000
END:DAYLIGHT
BEGIN:STANDARD
TZOFFSETFROM:-0700
TZOFFSETTO:-0800
TZNAME:PST
DTSTART:20161106T090000
END:STANDARD
END:VTIMEZONE
BEGIN:VEVENT
DTSTART;TZID=America/Los_Angeles:20160818T080000
DTEND;TZID=America/Los_Angeles:20160818T130000
DTSTAMP:20260424T091216
CREATED:20170214T224756Z
LAST-MODIFIED:20170214T224756Z
UID:1461-1471507200-1471525200@inside.ewu.edu
SUMMARY:AE1419GC- Rozell Parking Lot & Access Drive Reconstruction - Ad for Bid
DESCRIPTION:See QuestCDN 4622311 Project for additional information related to this project
URL:https://inside.ewu.edu/facilities/event/ae1419gc-rozell-parking-lot-access-drive-reconstruction-ad-for-bid/
LOCATION:Rozell Conference Room\, 1115 Cedar Street\, Cheney\, WA\, 99004\, United States
GEO:47.4941125;-117.5857403
X-APPLE-STRUCTURED-LOCATION;VALUE=URI;X-ADDRESS=Rozell Conference Room 1115 Cedar Street Cheney WA 99004 United States;X-APPLE-RADIUS=500;X-TITLE=1115 Cedar Street:geo:-117.5857403,47.4941125
END:VEVENT
END:VCALENDAR