BEGIN:VCALENDAR
VERSION:2.0
PRODID:-//Office of Employee Belonging, Development &amp; Leadership - ECPv5.15.0.1//NONSGML v1.0//EN
CALSCALE:GREGORIAN
METHOD:PUBLISH
X-WR-CALNAME:Office of Employee Belonging, Development &amp; Leadership
X-ORIGINAL-URL:https://inside.ewu.edu/employeebelonging
X-WR-CALDESC:Events for Office of Employee Belonging, Development &amp; Leadership
REFRESH-INTERVAL;VALUE=DURATION:PT1H
X-Robots-Tag:noindex
X-PUBLISHED-TTL:PT1H
BEGIN:VTIMEZONE
TZID:America/Los_Angeles
BEGIN:DAYLIGHT
TZOFFSETFROM:-0800
TZOFFSETTO:-0700
TZNAME:PDT
DTSTART:20240310T100000
END:DAYLIGHT
BEGIN:STANDARD
TZOFFSETFROM:-0700
TZOFFSETTO:-0800
TZNAME:PST
DTSTART:20241103T090000
END:STANDARD
BEGIN:DAYLIGHT
TZOFFSETFROM:-0800
TZOFFSETTO:-0700
TZNAME:PDT
DTSTART:20250309T100000
END:DAYLIGHT
BEGIN:STANDARD
TZOFFSETFROM:-0700
TZOFFSETTO:-0800
TZNAME:PST
DTSTART:20251102T090000
END:STANDARD
END:VTIMEZONE
BEGIN:VEVENT
DTSTART;TZID=America/Los_Angeles:20240210T140000
DTEND;TZID=America/Los_Angeles:20240210T190000
DTSTAMP:20260424T161409
CREATED:20240201T215802Z
LAST-MODIFIED:20240205T234429Z
UID:4909-1707573600-1707591600@inside.ewu.edu
SUMMARY:Diversity\, Equity & Inclusion Gameday - EWU Basketball Doubleheader
DESCRIPTION:Women’s Tip-Off: 2:00pm \n|  \nMen’s Tip-Off: 4:30pm \n|  \nWEAR BLACK
URL:https://inside.ewu.edu/employeebelonging/event/equality-inclusion-gameday-ewu-basketball-doubleheader/
LOCATION:Reese Court
END:VEVENT
BEGIN:VEVENT
DTSTART;TZID=America/Los_Angeles:20250531T120000
DTEND;TZID=America/Los_Angeles:20250531T220000
DTSTAMP:20260424T161409
CREATED:20250509T205226Z
LAST-MODIFIED:20250509T222436Z
UID:37676-1748692800-1748728800@inside.ewu.edu
SUMMARY:Spirit of the Eagle Powwow
DESCRIPTION:Grand Entry at 1pm & 7pm \nJoin us for a cultural celebration that brings together Indigenous communities\, dancers\, and singers from across the region.
URL:https://inside.ewu.edu/employeebelonging/event/spirit-of-the-eagle-powwow-2/
LOCATION:Reese Court
END:VEVENT
BEGIN:VEVENT
DTSTART;VALUE=DATE:20251025
DTEND;VALUE=DATE:20251027
DTSTAMP:20260424T161409
CREATED:20251007T174923Z
LAST-MODIFIED:20251007T180757Z
UID:38128-1761350400-1761523199@inside.ewu.edu
SUMMARY:EWU Invitational - Wheelchair Basketball Tournament
DESCRIPTION:Cheer on your Eastern athletes!  \nClick the link to see the Tournament Schedule for this free event. \nhttps://goeags.com/sports/2022/9/15/wheelchair-basketball-tournament.aspx \n  \n 
URL:https://inside.ewu.edu/employeebelonging/event/ewu-invitational-wheelchair-basketball-tournament/
LOCATION:Reese Court
END:VEVENT
END:VCALENDAR