BEGIN:VCALENDAR
VERSION:2.0
PRODID:-//Office of Employee Belonging, Development &amp; Leadership - ECPv5.15.0.1//NONSGML v1.0//EN
CALSCALE:GREGORIAN
METHOD:PUBLISH
X-WR-CALNAME:Office of Employee Belonging, Development &amp; Leadership
X-ORIGINAL-URL:https://inside.ewu.edu/employeebelonging
X-WR-CALDESC:Events for Office of Employee Belonging, Development &amp; Leadership
REFRESH-INTERVAL;VALUE=DURATION:PT1H
X-Robots-Tag:noindex
X-PUBLISHED-TTL:PT1H
BEGIN:VTIMEZONE
TZID:America/Los_Angeles
BEGIN:DAYLIGHT
TZOFFSETFROM:-0800
TZOFFSETTO:-0700
TZNAME:PDT
DTSTART:20240310T100000
END:DAYLIGHT
BEGIN:STANDARD
TZOFFSETFROM:-0700
TZOFFSETTO:-0800
TZNAME:PST
DTSTART:20241103T090000
END:STANDARD
BEGIN:DAYLIGHT
TZOFFSETFROM:-0800
TZOFFSETTO:-0700
TZNAME:PDT
DTSTART:20250309T100000
END:DAYLIGHT
BEGIN:STANDARD
TZOFFSETFROM:-0700
TZOFFSETTO:-0800
TZNAME:PST
DTSTART:20251102T090000
END:STANDARD
END:VTIMEZONE
BEGIN:VEVENT
DTSTART;TZID=America/Los_Angeles:20240202T140000
DTEND;TZID=America/Los_Angeles:20240202T150000
DTSTAMP:20260424T084711
CREATED:20240201T204432Z
LAST-MODIFIED:20240201T205414Z
UID:4894-1706882400-1706886000@inside.ewu.edu
SUMMARY:Why Recognize Proteins When Fats Taste So Good?
DESCRIPTION:Learn about Dr. Dequina Nicholas’ (University of California\, Irvine) research\, which explores the intersection between the nutrient environment\, the immune system\, and metabolic diseases such as type 2 diabetes and poly cystic ovary syndrome. \nBOT diversity grant: “Diversifying EWU STEM through the Science and Stories of Marginalized Communities.”
URL:https://inside.ewu.edu/employeebelonging/event/why-recognize-proteins-when-fats-taste-so-good/
LOCATION:JFK Library Auditorium
END:VEVENT
BEGIN:VEVENT
DTSTART;TZID=America/Los_Angeles:20240215T120000
DTEND;TZID=America/Los_Angeles:20240215T130000
DTSTAMP:20260424T084711
CREATED:20240201T221532Z
LAST-MODIFIED:20240201T221532Z
UID:4920-1707998400-1708002000@inside.ewu.edu
SUMMARY:From African Immigrants\, Black\, to African American – Personal Journeys to Discovering Black Identity
DESCRIPTION:Hear from Eastern’s BSU students as they share the challenges\, nuances\, and complexities of self-acceptance and group acceptance within Black communities.
URL:https://inside.ewu.edu/employeebelonging/event/from-african-immigrants-black-to-african-american-personal-journeys-to-discovering-black-identity/
LOCATION:JFK Library Auditorium
END:VEVENT
BEGIN:VEVENT
DTSTART;TZID=America/Los_Angeles:20240410T080000
DTEND;TZID=America/Los_Angeles:20240410T170000
DTSTAMP:20260424T084711
CREATED:20240410T181513Z
LAST-MODIFIED:20240410T181513Z
UID:35781-1712736000-1712768400@inside.ewu.edu
SUMMARY:Diversity\, Equity\, and Inclusion Week: Escalation Workshop by OneLove
DESCRIPTION:Diversity\, Equity\, and Inclusion Week \nEscalation Workshop Brought to You by OneLove Foundation \nOneLove’s workshops inspire young people to recognize and talk about an issue that affects everyone: relationships. In a world where emotionally unhealthy and abusive behaviors have become the norm\, young people not only need\, but are hungry for\, knowledge that helps them build healthy relationships. \nWednesday\, April 17th\, 2024 \n2:00 p.m. – 3:30 p.m. \nLocation: JFK Auditorium
URL:https://inside.ewu.edu/employeebelonging/event/diversity-equity-and-inclusion-week-escalation-workshop-by-onelove/
LOCATION:JFK Library Auditorium
END:VEVENT
BEGIN:VEVENT
DTSTART;TZID=America/Los_Angeles:20240426T140000
DTEND;TZID=America/Los_Angeles:20240426T140000
DTSTAMP:20260424T084711
CREATED:20240402T184830Z
LAST-MODIFIED:20240409T180954Z
UID:35616-1714140000-1714140000@inside.ewu.edu
SUMMARY:Seminar Presented by Dr. Christine Wilkinson
DESCRIPTION:Seminar “Improving Human-Wildlife Interactions Through Environmental Justice” presented by Dr. Christine Wilkinson. Dr. Wilkinson is a conservation biologist and carnivore ecologist. \nhttps://scrappynaturalist.com/ \n“I am a conservation biologist and carnivore ecologist currently working as a postdoc at the University of California\, Berkeley and the California Academy of Sciences. My research interests include human-wildlife conflict\, movement ecology\, multidisciplinary mapping\, and using participatory methods for more effective\, equitable\, and inclusive conservation outcomes.\nBefore attending UC Berkeley\, I spent several years working in conservation biology and natural resource management around the USA and in East Africa. I was also an informal educator\, piloting and implementing programs for teens and young adults at the California Academy of Sciences and in Uganda. My experiences as an educator have developed in me a passion for conducting applied participatory research and for empowering community-created solutions to pressing conservation challenges.\nIn 2020\, I co-founded Black Mammalogists Week. For more general information regarding Black Mammalogists Week\, please visit our\nwebsite: https://blackmammalogists.com/ or visit our twitter.\nFollow me on TikTok or Instagram for the Queer is Natural series & other science-related stories.” \nFriday\, April 26th\, 2024. \n2 p.m. \nLocation: JFK Auditorium.
URL:https://inside.ewu.edu/employeebelonging/event/seminar-presented-by-dr-christine-wilkinson/
LOCATION:JFK Library Auditorium
END:VEVENT
BEGIN:VEVENT
DTSTART;TZID=America/Los_Angeles:20251203T100000
DTEND;TZID=America/Los_Angeles:20251203T120000
DTSTAMP:20260424T084711
CREATED:20251027T005732Z
LAST-MODIFIED:20251027T005732Z
UID:38246-1764756000-1764763200@inside.ewu.edu
SUMMARY:ALERRT Active Threat Training
DESCRIPTION:The Advanced Law Enforcement Rapid Response Training (ALERRT) program provides critical\, evidence-based instruction on how to effectively respond during active threat situations. While originally designed for law enforcement\, university employees benefit by gaining a better understanding of how emergency responses unfold\, what to expect from first responders\, and how to make informed\, lifesaving decisions during a crisis.\nBy participating\, employees help strengthen campus preparedness\, enhance coordination with campus police\, and build confidence in responding to high-stress situations. Ultimately\, this training supports a safer\, more resilient campus community for everyone.
URL:https://inside.ewu.edu/employeebelonging/event/alerrt-active-threat-training/
LOCATION:JFK Library Auditorium
END:VEVENT
END:VCALENDAR