BEGIN:VCALENDAR
VERSION:2.0
PRODID:-//Environmental Health &amp; Safety - ECPv5.15.0.1//NONSGML v1.0//EN
CALSCALE:GREGORIAN
METHOD:PUBLISH
X-WR-CALNAME:Environmental Health &amp; Safety
X-ORIGINAL-URL:https://inside.ewu.edu/ehs
X-WR-CALDESC:Events for Environmental Health &amp; Safety
BEGIN:VTIMEZONE
TZID:America/Los_Angeles
BEGIN:DAYLIGHT
TZOFFSETFROM:-0800
TZOFFSETTO:-0700
TZNAME:PDT
DTSTART:20230312T100000
END:DAYLIGHT
BEGIN:STANDARD
TZOFFSETFROM:-0700
TZOFFSETTO:-0800
TZNAME:PST
DTSTART:20231105T090000
END:STANDARD
END:VTIMEZONE
BEGIN:VEVENT
DTSTART;TZID=America/Los_Angeles:20230207T083000
DTEND;TZID=America/Los_Angeles:20230207T093000
DTSTAMP:20260425T195937
CREATED:20221223T182614Z
LAST-MODIFIED:20221223T182614Z
UID:12977-1675758600-1675762200@inside.ewu.edu
SUMMARY:Bloodborne Pathogen Training.
DESCRIPTION:Bloodborne Pathogen Training is required annually for anyone who’s work could involve contact with human blood or bodily fluids. The class is designed to cover the requirements of WAC 296-823\, Occupational Exposure to Bloodborne Pathogens.
URL:https://inside.ewu.edu/ehs/class/bloodborne-pathogen-training-15/
LOCATION:MAR 007
CATEGORIES:Regulatory Requirements,Training
ORGANIZER;CN="John%20Shields":MAILTO:jshields@ewu.edu
END:VEVENT
BEGIN:VEVENT
DTSTART;TZID=America/Los_Angeles:20230207T124500
DTEND;TZID=America/Los_Angeles:20230207T134500
DTSTAMP:20260425T195937
CREATED:20221223T182914Z
LAST-MODIFIED:20221223T182914Z
UID:12980-1675773900-1675777500@inside.ewu.edu
SUMMARY:Bloodborne Pathogen Training.
DESCRIPTION:Bloodborne Pathogen Training is required annually for anyone who’s work could involve contact with human blood or bodily fluids. The class is designed to cover the requirements of WAC 296-823\, Occupational Exposure to Bloodborne Pathogens.
URL:https://inside.ewu.edu/ehs/class/bloodborne-pathogen-training-16/
LOCATION:MAR 007
CATEGORIES:Regulatory Requirements,Training
ORGANIZER;CN="John%20Shields":MAILTO:jshields@ewu.edu
END:VEVENT
BEGIN:VEVENT
DTSTART;TZID=America/Los_Angeles:20230207T180000
DTEND;TZID=America/Los_Angeles:20230207T190000
DTSTAMP:20260425T195937
CREATED:20221223T183048Z
LAST-MODIFIED:20221223T183048Z
UID:12986-1675792800-1675796400@inside.ewu.edu
SUMMARY:Bloodborne Pathogen Training.
DESCRIPTION:Bloodborne Pathogen Training is required annually for anyone who’s work could involve contact with human blood or bodily fluids. The class is designed to cover the requirements of WAC 296-823\, Occupational Exposure to Bloodborne Pathogens.
URL:https://inside.ewu.edu/ehs/class/bloodborne-pathogen-training-17/
LOCATION:MAR 007
CATEGORIES:Regulatory Requirements,Training
ORGANIZER;CN="John%20Shields":MAILTO:jshields@ewu.edu
END:VEVENT
END:VCALENDAR