BEGIN:VCALENDAR
VERSION:2.0
PRODID:-//Environmental Health &amp; Safety - ECPv5.15.0.1//NONSGML v1.0//EN
CALSCALE:GREGORIAN
METHOD:PUBLISH
X-WR-CALNAME:Environmental Health &amp; Safety
X-ORIGINAL-URL:https://inside.ewu.edu/ehs
X-WR-CALDESC:Events for Environmental Health &amp; Safety
BEGIN:VTIMEZONE
TZID:America/Los_Angeles
BEGIN:DAYLIGHT
TZOFFSETFROM:-0800
TZOFFSETTO:-0700
TZNAME:PDT
DTSTART:20240310T100000
END:DAYLIGHT
BEGIN:STANDARD
TZOFFSETFROM:-0700
TZOFFSETTO:-0800
TZNAME:PST
DTSTART:20241103T090000
END:STANDARD
END:VTIMEZONE
BEGIN:VEVENT
DTSTART;TZID=America/Los_Angeles:20240409T124500
DTEND;TZID=America/Los_Angeles:20240409T144500
DTSTAMP:20260424T184835
CREATED:20240220T174617Z
LAST-MODIFIED:20240220T180116Z
UID:15012-1712666700-1712673900@inside.ewu.edu
SUMMARY:Hearing Conservation / Heat Stress / Wildfire Smoke
DESCRIPTION:Hearing conservation is covered by WAC 296-817. This is required for anyone who works in loud environments or with loud equipment. \nHeat Stress is required annually for employees who work outside during the summer months (WAC 296-62-095). This training covers the dangers and symptoms of heat-related illnesses\, work practices to prevent illness from occurring\, and emergency response if a heat-related illness occurs. \nThe Wildfire Smoke emergency rule provides protection for personnel working outdoors for more than one hour who may be reasonably expected to be exposed to wildfire smoke. 
URL:https://inside.ewu.edu/ehs/class/hearing-conservation-heat-stress-wildfire-smoke-9/
LOCATION:MAR 007
CATEGORIES:Regulatory Requirements,Training
ORGANIZER;CN="Environmental%20Health%20and%20Safety":MAILTO:envhea@ewu.edu
END:VEVENT
END:VCALENDAR