BEGIN:VCALENDAR
VERSION:2.0
PRODID:-//Environmental Health &amp; Safety - ECPv5.15.0.1//NONSGML v1.0//EN
CALSCALE:GREGORIAN
METHOD:PUBLISH
X-WR-CALNAME:Environmental Health &amp; Safety
X-ORIGINAL-URL:https://inside.ewu.edu/ehs
X-WR-CALDESC:Events for Environmental Health &amp; Safety
BEGIN:VTIMEZONE
TZID:America/Los_Angeles
BEGIN:DAYLIGHT
TZOFFSETFROM:-0800
TZOFFSETTO:-0700
TZNAME:PDT
DTSTART:20180311T100000
END:DAYLIGHT
BEGIN:STANDARD
TZOFFSETFROM:-0700
TZOFFSETTO:-0800
TZNAME:PST
DTSTART:20181104T090000
END:STANDARD
END:VTIMEZONE
BEGIN:VEVENT
DTSTART;TZID=America/Los_Angeles:20180313T180000
DTEND;TZID=America/Los_Angeles:20180313T200000
DTSTAMP:20260423T080829
CREATED:20171228T004710Z
LAST-MODIFIED:20171228T004710Z
UID:4030-1520964000-1520971200@inside.ewu.edu
SUMMARY:6pm Hazard Communication
DESCRIPTION:Training Class for Hazard Communication
URL:https://inside.ewu.edu/ehs/class/hazard-communication-3/
LOCATION:MAR 007
ORGANIZER;CN="Environmental%20Health%20and%20Safety":MAILTO:envhea@ewu.edu
END:VEVENT
END:VCALENDAR