BEGIN:VCALENDAR
VERSION:2.0
PRODID:-//Environmental Health &amp; Safety - ECPv5.15.0.1//NONSGML v1.0//EN
CALSCALE:GREGORIAN
METHOD:PUBLISH
X-WR-CALNAME:Environmental Health &amp; Safety
X-ORIGINAL-URL:https://inside.ewu.edu/ehs
X-WR-CALDESC:Events for Environmental Health &amp; Safety
BEGIN:VTIMEZONE
TZID:America/Los_Angeles
BEGIN:DAYLIGHT
TZOFFSETFROM:-0800
TZOFFSETTO:-0700
TZNAME:PDT
DTSTART:20190310T100000
END:DAYLIGHT
BEGIN:STANDARD
TZOFFSETFROM:-0700
TZOFFSETTO:-0800
TZNAME:PST
DTSTART:20191103T090000
END:STANDARD
END:VTIMEZONE
BEGIN:VEVENT
DTSTART;TZID=America/Los_Angeles:20190218T130000
DTEND;TZID=America/Los_Angeles:20190218T170000
DTSTAMP:20260425T210345
CREATED:20180828T170928Z
LAST-MODIFIED:20180828T170928Z
UID:6256-1550494800-1550509200@inside.ewu.edu
SUMMARY:First Aid & CPR Training by Cheney Fire Department
DESCRIPTION:The Cheney Fire Department is offering First Aid & CPR training. This training is available for any community members. Call Cheney Parks and Recreation at 509.498.9250 for more information or to sign up.
URL:https://inside.ewu.edu/ehs/class/first-aid-cpr-training-by-cheney-fire-department-5/
END:VEVENT
END:VCALENDAR