BEGIN:VCALENDAR
VERSION:2.0
PRODID:-//Environmental Health &amp; Safety - ECPv5.15.0.1//NONSGML v1.0//EN
CALSCALE:GREGORIAN
METHOD:PUBLISH
X-WR-CALNAME:Environmental Health &amp; Safety
X-ORIGINAL-URL:https://inside.ewu.edu/ehs
X-WR-CALDESC:Events for Environmental Health &amp; Safety
BEGIN:VTIMEZONE
TZID:America/Los_Angeles
BEGIN:DAYLIGHT
TZOFFSETFROM:-0800
TZOFFSETTO:-0700
TZNAME:PDT
DTSTART:20230312T100000
END:DAYLIGHT
BEGIN:STANDARD
TZOFFSETFROM:-0700
TZOFFSETTO:-0800
TZNAME:PST
DTSTART:20231105T090000
END:STANDARD
END:VTIMEZONE
BEGIN:VEVENT
DTSTART;TZID=America/Los_Angeles:20230509T124500
DTEND;TZID=America/Los_Angeles:20230509T134500
DTSTAMP:20260425T085421
CREATED:20230317T183235Z
LAST-MODIFIED:20230317T183245Z
UID:14048-1683636300-1683639900@inside.ewu.edu
SUMMARY:Fire Extinguisher / AED Training
DESCRIPTION:This class offers classroom and hands-on training for fire extinguishers as well as classroom training for emergency evacuations and the use of Automated External Defibrillators (AEDs). This class covers the requirements of WAC 296-800-30025.
URL:https://inside.ewu.edu/ehs/class/fire-extinguisher-aed-training-4/
LOCATION:MAR 007
CATEGORIES:Regulatory Requirements,Training
ORGANIZER;CN="Environmental%20Health%20and%20Safety":MAILTO:envhea@ewu.edu
END:VEVENT
END:VCALENDAR