BEGIN:VCALENDAR
VERSION:2.0
PRODID:-//Environmental Health &amp; Safety - ECPv5.15.0.1//NONSGML v1.0//EN
CALSCALE:GREGORIAN
METHOD:PUBLISH
X-WR-CALNAME:Environmental Health &amp; Safety
X-ORIGINAL-URL:https://inside.ewu.edu/ehs
X-WR-CALDESC:Events for Environmental Health &amp; Safety
BEGIN:VTIMEZONE
TZID:America/Los_Angeles
BEGIN:DAYLIGHT
TZOFFSETFROM:-0800
TZOFFSETTO:-0700
TZNAME:PDT
DTSTART:20210314T100000
END:DAYLIGHT
BEGIN:STANDARD
TZOFFSETFROM:-0700
TZOFFSETTO:-0800
TZNAME:PST
DTSTART:20211107T090000
END:STANDARD
END:VTIMEZONE
BEGIN:VEVENT
DTSTART;TZID=America/Los_Angeles:20210309T083000
DTEND;TZID=America/Los_Angeles:20210309T103000
DTSTAMP:20260425T212640
CREATED:20210203T194542Z
LAST-MODIFIED:20210226T153728Z
UID:10996-1615278600-1615285800@inside.ewu.edu
SUMMARY:8:30am HAZCOM Training
DESCRIPTION:This is the “right to know” program regarding hazardous chemicals for anyone who works with or around chemicals. Training is designed to comply with WAC 296-901 and covers chemical hazards\, hazard identification\, and how to find safety information when it is needed.
URL:https://inside.ewu.edu/ehs/class/830am-hazcom-training/
CATEGORIES:Regulatory Requirements,Training
END:VEVENT
END:VCALENDAR