BEGIN:VCALENDAR
VERSION:2.0
PRODID:-//Environmental Health &amp; Safety - ECPv5.15.0.1//NONSGML v1.0//EN
CALSCALE:GREGORIAN
METHOD:PUBLISH
X-WR-CALNAME:Environmental Health &amp; Safety
X-ORIGINAL-URL:https://inside.ewu.edu/ehs
X-WR-CALDESC:Events for Environmental Health &amp; Safety
BEGIN:VTIMEZONE
TZID:America/Los_Angeles
BEGIN:DAYLIGHT
TZOFFSETFROM:-0800
TZOFFSETTO:-0700
TZNAME:PDT
DTSTART:20190310T100000
END:DAYLIGHT
BEGIN:STANDARD
TZOFFSETFROM:-0700
TZOFFSETTO:-0800
TZNAME:PST
DTSTART:20191103T090000
END:STANDARD
END:VTIMEZONE
BEGIN:VEVENT
DTSTART;TZID=America/Los_Angeles:20191120T081500
DTEND;TZID=America/Los_Angeles:20191120T121500
DTSTAMP:20260425T175527
CREATED:20181205T170641Z
LAST-MODIFIED:20191023T153237Z
UID:6686-1574237700-1574252100@inside.ewu.edu
SUMMARY:8:15am New Facility Worker Safety Training
DESCRIPTION:Training will be on New Facility Worker Safety Training. Class starts at 8:15am to 12:15pm
URL:https://inside.ewu.edu/ehs/class/815am-new-facility-worker-safety-training-21/
LOCATION:MAR 007
ORGANIZER;CN="Environmental%20Health%20and%20Safety":MAILTO:envhea@ewu.edu
END:VEVENT
END:VCALENDAR