BEGIN:VCALENDAR
VERSION:2.0
PRODID:-//Environmental Health &amp; Safety - ECPv5.15.0.1//NONSGML v1.0//EN
CALSCALE:GREGORIAN
METHOD:PUBLISH
X-WR-CALNAME:Environmental Health &amp; Safety
X-ORIGINAL-URL:https://inside.ewu.edu/ehs
X-WR-CALDESC:Events for Environmental Health &amp; Safety
BEGIN:VTIMEZONE
TZID:America/Los_Angeles
BEGIN:DAYLIGHT
TZOFFSETFROM:-0800
TZOFFSETTO:-0700
TZNAME:PDT
DTSTART:20200308T100000
END:DAYLIGHT
BEGIN:STANDARD
TZOFFSETFROM:-0700
TZOFFSETTO:-0800
TZNAME:PST
DTSTART:20201101T090000
END:STANDARD
END:VTIMEZONE
BEGIN:VEVENT
DTSTART;TZID=America/Los_Angeles:20200225T173000
DTEND;TZID=America/Los_Angeles:20200225T180000
DTSTAMP:20260425T205819
CREATED:20191217T194815Z
LAST-MODIFIED:20200218T174157Z
UID:9757-1582651800-1582653600@inside.ewu.edu
SUMMARY:5:30pm Bloodborne Pathogen
DESCRIPTION:Bloodborne Pathogen Training is required annually for anyone who’s work could involve contact with human blood or bodily fluids. The class is designed to cover the requirements of WAC 296-823\, Occupational Exposure to Bloodborne Pathogens.
URL:https://inside.ewu.edu/ehs/class/600pm-bloodborne-pathogen-3/
CATEGORIES:Training
END:VEVENT
END:VCALENDAR