BEGIN:VCALENDAR
VERSION:2.0
PRODID:-//Environmental Health &amp; Safety - ECPv5.15.0.1//NONSGML v1.0//EN
CALSCALE:GREGORIAN
METHOD:PUBLISH
X-WR-CALNAME:Environmental Health &amp; Safety
X-ORIGINAL-URL:https://inside.ewu.edu/ehs
X-WR-CALDESC:Events for Environmental Health &amp; Safety
BEGIN:VTIMEZONE
TZID:America/Los_Angeles
BEGIN:DAYLIGHT
TZOFFSETFROM:-0800
TZOFFSETTO:-0700
TZNAME:PDT
DTSTART:20200308T100000
END:DAYLIGHT
BEGIN:STANDARD
TZOFFSETFROM:-0700
TZOFFSETTO:-0800
TZNAME:PST
DTSTART:20201101T090000
END:STANDARD
END:VTIMEZONE
BEGIN:VEVENT
DTSTART;TZID=America/Los_Angeles:20201117T103000
DTEND;TZID=America/Los_Angeles:20201117T113000
DTSTAMP:20260425T175352
CREATED:20200115T174812Z
LAST-MODIFIED:20200218T171142Z
UID:10111-1605609000-1605612600@inside.ewu.edu
SUMMARY:10:30am Bloodborne Pathogen Training
DESCRIPTION:Training will be on Bloodborne Pathogen Training. Class starts at 10:30am to 11:30am
URL:https://inside.ewu.edu/ehs/class/1030am-bloodborne-pathogen-training-30/
CATEGORIES:Training
END:VEVENT
END:VCALENDAR