BEGIN:VCALENDAR
VERSION:2.0
PRODID:-//Environmental Health &amp; Safety - ECPv5.15.0.1//NONSGML v1.0//EN
CALSCALE:GREGORIAN
METHOD:PUBLISH
X-WR-CALNAME:Environmental Health &amp; Safety
X-ORIGINAL-URL:https://inside.ewu.edu/ehs
X-WR-CALDESC:Events for Environmental Health &amp; Safety
BEGIN:VTIMEZONE
TZID:America/Los_Angeles
BEGIN:DAYLIGHT
TZOFFSETFROM:-0800
TZOFFSETTO:-0700
TZNAME:PDT
DTSTART:20200308T100000
END:DAYLIGHT
BEGIN:STANDARD
TZOFFSETFROM:-0700
TZOFFSETTO:-0800
TZNAME:PST
DTSTART:20201101T090000
END:STANDARD
END:VTIMEZONE
BEGIN:VEVENT
DTSTART;TZID=America/Los_Angeles:20201217T100000
DTEND;TZID=America/Los_Angeles:20201217T120000
DTSTAMP:20260425T210503
CREATED:20200115T165714Z
LAST-MODIFIED:20200303T180045Z
UID:10050-1608199200-1608206400@inside.ewu.edu
SUMMARY:10:00am New Supervisor Occupational Health and Safety Training
DESCRIPTION:Training will be on New Supervisor Occupational Health and Safety Training. Class starts at 10:00am to Noon
URL:https://inside.ewu.edu/ehs/class/1000am-new-supervisor-occupational-health-and-safety-training-21/
CATEGORIES:Training
END:VEVENT
END:VCALENDAR