BEGIN:VCALENDAR
VERSION:2.0
PRODID:-//Eagle Startup Center - ECPv5.15.0.1//NONSGML v1.0//EN
CALSCALE:GREGORIAN
METHOD:PUBLISH
X-WR-CALNAME:Eagle Startup Center
X-ORIGINAL-URL:https://inside.ewu.edu/eagle-startup
X-WR-CALDESC:Events for Eagle Startup Center
BEGIN:VTIMEZONE
TZID:America/Los_Angeles
BEGIN:DAYLIGHT
TZOFFSETFROM:-0800
TZOFFSETTO:-0700
TZNAME:PDT
DTSTART:20260308T100000
END:DAYLIGHT
BEGIN:STANDARD
TZOFFSETFROM:-0700
TZOFFSETTO:-0800
TZNAME:PST
DTSTART:20261101T090000
END:STANDARD
BEGIN:DAYLIGHT
TZOFFSETFROM:-0800
TZOFFSETTO:-0700
TZNAME:PDT
DTSTART:20270314T100000
END:DAYLIGHT
BEGIN:STANDARD
TZOFFSETFROM:-0700
TZOFFSETTO:-0800
TZNAME:PST
DTSTART:20271107T090000
END:STANDARD
END:VTIMEZONE
BEGIN:VEVENT
DTSTART;VALUE=DATE:20261008
DTEND;VALUE=DATE:20270312
DTSTAMP:20260423T161647
CREATED:20250409T195012Z
LAST-MODIFIED:20260407T190504Z
UID:36420-1791417600-1804809599@inside.ewu.edu
SUMMARY:The Commercialization Academy for academic year 2026-27 starting Fall quarter
DESCRIPTION:Register for the Commercialization Academy for academic year 2026-2027\, Fall quarter!!!
URL:https://inside.ewu.edu/eagle-startup/event/the-commercialization-academy/
LOCATION:Ideation Lab\, CEB 125
ORGANIZER;CN="Eagle%20Startup%20Center":MAILTO:eagle-startup@ewu.edu
END:VEVENT
END:VCALENDAR