BEGIN:VCALENDAR
VERSION:2.0
PRODID:-//Eagle Startup Center - ECPv5.15.0.1//NONSGML v1.0//EN
CALSCALE:GREGORIAN
METHOD:PUBLISH
X-WR-CALNAME:Eagle Startup Center
X-ORIGINAL-URL:https://inside.ewu.edu/eagle-startup
X-WR-CALDESC:Events for Eagle Startup Center
BEGIN:VTIMEZONE
TZID:America/Los_Angeles
BEGIN:DAYLIGHT
TZOFFSETFROM:-0800
TZOFFSETTO:-0700
TZNAME:PDT
DTSTART:20250309T100000
END:DAYLIGHT
BEGIN:STANDARD
TZOFFSETFROM:-0700
TZOFFSETTO:-0800
TZNAME:PST
DTSTART:20251102T090000
END:STANDARD
END:VTIMEZONE
BEGIN:VEVENT
DTSTART;TZID=America/Los_Angeles:20250204T170000
DTEND;TZID=America/Los_Angeles:20250204T190000
DTSTAMP:20260421T023501
CREATED:20240819T214548Z
LAST-MODIFIED:20240819T214548Z
UID:35885-1738688400-1738695600@inside.ewu.edu
SUMMARY:The Commercialization Academy Weekly Meeting
DESCRIPTION:Weekly meeting for TCA students/teams to meet. The first hour is a new topic covered by a mentor\, with the second hour functioning as a check-in period for teams.
URL:https://inside.ewu.edu/eagle-startup/event/the-commercialization-academy-weekly-meeting/2025-02-04/
END:VEVENT
END:VCALENDAR