BEGIN:VCALENDAR
VERSION:2.0
PRODID:-//Eagle Startup Center - ECPv5.15.0.1//NONSGML v1.0//EN
CALSCALE:GREGORIAN
METHOD:PUBLISH
X-WR-CALNAME:Eagle Startup Center
X-ORIGINAL-URL:https://inside.ewu.edu/eagle-startup
X-WR-CALDESC:Events for Eagle Startup Center
BEGIN:VTIMEZONE
TZID:America/Los_Angeles
BEGIN:DAYLIGHT
TZOFFSETFROM:-0800
TZOFFSETTO:-0700
TZNAME:PDT
DTSTART:20250309T100000
END:DAYLIGHT
BEGIN:STANDARD
TZOFFSETFROM:-0700
TZOFFSETTO:-0800
TZNAME:PST
DTSTART:20251102T090000
END:STANDARD
END:VTIMEZONE
BEGIN:VEVENT
DTSTART;TZID=America/Los_Angeles:20250201T090000
DTEND;TZID=America/Los_Angeles:20250201T160000
DTSTAMP:20260421T035050
CREATED:20241125T180822Z
LAST-MODIFIED:20241125T180822Z
UID:36164-1738400400-1738425600@inside.ewu.edu
SUMMARY:Follow up with Maria Lloyd
DESCRIPTION:Participating students of The Commercialization Academy have a chance to discuss their business with Maria Lloyd.
URL:https://inside.ewu.edu/eagle-startup/event/follow-up-with-maria-lloyd/
LOCATION:Ideation Lab\, CEB 125
ORGANIZER;CN="Eagle%20Startup%20Center":MAILTO:eagle-startup@ewu.edu
END:VEVENT
END:VCALENDAR