BEGIN:VCALENDAR
VERSION:2.0
PRODID:-//EWU Dining Services - ECPv5.15.0.1//NONSGML v1.0//EN
CALSCALE:GREGORIAN
METHOD:PUBLISH
X-WR-CALNAME:EWU Dining Services
X-ORIGINAL-URL:https://inside.ewu.edu/dining
X-WR-CALDESC:Events for EWU Dining Services
BEGIN:VTIMEZONE
TZID:America/Los_Angeles
BEGIN:DAYLIGHT
TZOFFSETFROM:-0800
TZOFFSETTO:-0700
TZNAME:PDT
DTSTART:20230312T100000
END:DAYLIGHT
BEGIN:STANDARD
TZOFFSETFROM:-0700
TZOFFSETTO:-0800
TZNAME:PST
DTSTART:20231105T090000
END:STANDARD
END:VTIMEZONE
BEGIN:VEVENT
DTSTART;TZID=America/Los_Angeles:20230412T103000
DTEND;TZID=America/Los_Angeles:20230412T160000
DTSTAMP:20260425T134937
CREATED:20230404T220823Z
LAST-MODIFIED:20230404T230125Z
UID:9489-1681295400-1681315200@inside.ewu.edu
SUMMARY:National Grilled Cheese Day
DESCRIPTION:
URL:https://inside.ewu.edu/dining/event/national-grilled-cheese-day/
END:VEVENT
END:VCALENDAR