BEGIN:VCALENDAR
VERSION:2.0
PRODID:-//EWU Dining Services - ECPv5.15.0.1//NONSGML v1.0//EN
CALSCALE:GREGORIAN
METHOD:PUBLISH
X-WR-CALNAME:EWU Dining Services
X-ORIGINAL-URL:https://inside.ewu.edu/dining
X-WR-CALDESC:Events for EWU Dining Services
BEGIN:VTIMEZONE
TZID:America/Denver
BEGIN:DAYLIGHT
TZOFFSETFROM:-0700
TZOFFSETTO:-0600
TZNAME:MDT
DTSTART:20190310T090000
END:DAYLIGHT
BEGIN:STANDARD
TZOFFSETFROM:-0600
TZOFFSETTO:-0700
TZNAME:MST
DTSTART:20191103T080000
END:STANDARD
END:VTIMEZONE
BEGIN:VEVENT
DTSTART;TZID=America/Denver:20190214T170000
DTEND;TZID=America/Denver:20190214T200000
DTSTAMP:20260425T170424
CREATED:20190205T001229Z
LAST-MODIFIED:20190205T001229Z
UID:5528-1550163600-1550174400@inside.ewu.edu
SUMMARY:Valentine's Sushi Dinner
DESCRIPTION:<![CDATA[]]>
URL:https://inside.ewu.edu/dining/event/valentines-sushi-dinner/
END:VEVENT
END:VCALENDAR