BEGIN:VCALENDAR
VERSION:2.0
PRODID:-//EWU Dining Services - ECPv5.15.0.1//NONSGML v1.0//EN
CALSCALE:GREGORIAN
METHOD:PUBLISH
X-WR-CALNAME:EWU Dining Services
X-ORIGINAL-URL:https://inside.ewu.edu/dining
X-WR-CALDESC:Events for EWU Dining Services
BEGIN:VTIMEZONE
TZID:America/Los_Angeles
BEGIN:DAYLIGHT
TZOFFSETFROM:-0800
TZOFFSETTO:-0700
TZNAME:PDT
DTSTART:20210314T100000
END:DAYLIGHT
BEGIN:STANDARD
TZOFFSETFROM:-0700
TZOFFSETTO:-0800
TZNAME:PST
DTSTART:20211107T090000
END:STANDARD
END:VTIMEZONE
BEGIN:VEVENT
DTSTART;VALUE=DATE:20210312
DTEND;VALUE=DATE:20210329
DTSTAMP:20260425T200420
CREATED:20210216T235316Z
LAST-MODIFIED:20210216T235316Z
UID:8623-1615507200-1616975999@inside.ewu.edu
SUMMARY:Spring Break Operational Hours
DESCRIPTION:
URL:https://inside.ewu.edu/dining/event/spring-break-operational-hours/
END:VEVENT
END:VCALENDAR