BEGIN:VCALENDAR
VERSION:2.0
PRODID:-//EWU Dining Services - ECPv5.15.0.1//NONSGML v1.0//EN
CALSCALE:GREGORIAN
METHOD:PUBLISH
X-WR-CALNAME:EWU Dining Services
X-ORIGINAL-URL:https://inside.ewu.edu/dining
X-WR-CALDESC:Events for EWU Dining Services
BEGIN:VTIMEZONE
TZID:America/Los_Angeles
BEGIN:DAYLIGHT
TZOFFSETFROM:-0800
TZOFFSETTO:-0700
TZNAME:PDT
DTSTART:20210314T100000
END:DAYLIGHT
BEGIN:STANDARD
TZOFFSETFROM:-0700
TZOFFSETTO:-0800
TZNAME:PST
DTSTART:20211107T090000
END:STANDARD
END:VTIMEZONE
BEGIN:VEVENT
DTSTART;TZID=America/Los_Angeles:20210216T110000
DTEND;TZID=America/Los_Angeles:20210216T190000
DTSTAMP:20260425T212923
CREATED:20210115T234541Z
LAST-MODIFIED:20210115T234541Z
UID:8583-1613473200-1613502000@inside.ewu.edu
SUMMARY:Mardi Gras
DESCRIPTION:Join us at the Union Market today and try some specialty menu items celebrating Mardi Gras.
URL:https://inside.ewu.edu/dining/event/mardi-gras-2/
END:VEVENT
END:VCALENDAR