BEGIN:VCALENDAR
VERSION:2.0
PRODID:-//EWU Dining Services - ECPv5.15.0.1//NONSGML v1.0//EN
CALSCALE:GREGORIAN
METHOD:PUBLISH
X-WR-CALNAME:EWU Dining Services
X-ORIGINAL-URL:https://inside.ewu.edu/dining
X-WR-CALDESC:Events for EWU Dining Services
BEGIN:VTIMEZONE
TZID:America/Denver
BEGIN:DAYLIGHT
TZOFFSETFROM:-0700
TZOFFSETTO:-0600
TZNAME:MDT
DTSTART:20180311T090000
END:DAYLIGHT
BEGIN:STANDARD
TZOFFSETFROM:-0600
TZOFFSETTO:-0700
TZNAME:MST
DTSTART:20181104T080000
END:STANDARD
END:VTIMEZONE
BEGIN:VEVENT
DTSTART;TZID=America/Denver:20181203T160000
DTEND;TZID=America/Denver:20181203T200000
DTSTAMP:20260425T183429
CREATED:20180905T221645Z
LAST-MODIFIED:20180905T221645Z
UID:4965-1543852800-1543867200@inside.ewu.edu
SUMMARY:Holiday Dinner
DESCRIPTION:<![CDATA[]]>
URL:https://inside.ewu.edu/dining/event/holiday-dinner-2/
END:VEVENT
END:VCALENDAR