BEGIN:VCALENDAR
VERSION:2.0
PRODID:-//Campus Recreation - ECPv5.15.0.1//NONSGML v1.0//EN
CALSCALE:GREGORIAN
METHOD:PUBLISH
X-WR-CALNAME:Campus Recreation
X-ORIGINAL-URL:https://inside.ewu.edu/campusrec
X-WR-CALDESC:Events for Campus Recreation
BEGIN:VTIMEZONE
TZID:America/Los_Angeles
BEGIN:DAYLIGHT
TZOFFSETFROM:-0800
TZOFFSETTO:-0700
TZNAME:PDT
DTSTART:20220313T100000
END:DAYLIGHT
BEGIN:STANDARD
TZOFFSETFROM:-0700
TZOFFSETTO:-0800
TZNAME:PST
DTSTART:20221106T090000
END:STANDARD
END:VTIMEZONE
BEGIN:VEVENT
DTSTART;TZID=America/Los_Angeles:20220128T183000
DTEND;TZID=America/Los_Angeles:20220128T200000
DTSTAMP:20260421T215512
CREATED:20220124T232433Z
LAST-MODIFIED:20220124T232433Z
UID:11190-1643394600-1643400000@inside.ewu.edu
SUMMARY:Water Polo Club
DESCRIPTION:New Water Polo Club!\nPlease contact the Aquatic Center to be put on the roster for our new Water Polo Club.  The club will meet Friday evenings from 6:30-8 PM.  Brynna Lutz is the Coach\, and a Supervisor at the Aquatic Center.  This club is an EWU sanctioned club\, and ONLY EWU students are permitted to join.
URL:https://inside.ewu.edu/campusrec/event/water-polo-club/2022-01-28/
LOCATION:Aquatic Center\, Cheney\, 99004\, United States
GEO:47.4873895;-117.5757622
END:VEVENT
END:VCALENDAR