BEGIN:VCALENDAR
VERSION:2.0
PRODID:-//Campus Recreation - ECPv5.15.0.1//NONSGML v1.0//EN
CALSCALE:GREGORIAN
METHOD:PUBLISH
X-WR-CALNAME:Campus Recreation
X-ORIGINAL-URL:https://inside.ewu.edu/campusrec
X-WR-CALDESC:Events for Campus Recreation
BEGIN:VTIMEZONE
TZID:America/Denver
BEGIN:DAYLIGHT
TZOFFSETFROM:-0700
TZOFFSETTO:-0600
TZNAME:MDT
DTSTART:20170312T090000
END:DAYLIGHT
BEGIN:STANDARD
TZOFFSETFROM:-0600
TZOFFSETTO:-0700
TZNAME:MST
DTSTART:20171105T080000
END:STANDARD
END:VTIMEZONE
BEGIN:VEVENT
DTSTART;VALUE=DATE:20171109
DTEND;VALUE=DATE:20171113
DTSTAMP:20260422T043714
CREATED:20171031T211754Z
LAST-MODIFIED:20171031T211754Z
UID:1601-1510185600-1510531199@inside.ewu.edu
SUMMARY:Olympic National Park Hike\, Bike\, and Hotsprings
DESCRIPTION:
URL:https://inside.ewu.edu/campusrec/event/olympic-national-park-hike-bike-and-hotsprings-2/
LOCATION:Olympic National Park\, 3002 Mt Angeles Rd\, Port Angeles\, WA\, 98362\, United States
GEO:47.9691804;-123.4984808
X-APPLE-STRUCTURED-LOCATION;VALUE=URI;X-ADDRESS=Olympic National Park 3002 Mt Angeles Rd Port Angeles WA 98362 United States;X-APPLE-RADIUS=500;X-TITLE=3002 Mt Angeles Rd:geo:-123.4984808,47.9691804
END:VEVENT
END:VCALENDAR