BEGIN:VCALENDAR
VERSION:2.0
PRODID:-//Campus Recreation - ECPv5.15.0.1//NONSGML v1.0//EN
CALSCALE:GREGORIAN
METHOD:PUBLISH
X-WR-CALNAME:Campus Recreation
X-ORIGINAL-URL:https://inside.ewu.edu/campusrec
X-WR-CALDESC:Events for Campus Recreation
BEGIN:VTIMEZONE
TZID:America/Denver
BEGIN:DAYLIGHT
TZOFFSETFROM:-0700
TZOFFSETTO:-0600
TZNAME:MDT
DTSTART:20180311T090000
END:DAYLIGHT
BEGIN:STANDARD
TZOFFSETFROM:-0600
TZOFFSETTO:-0700
TZNAME:MST
DTSTART:20181104T080000
END:STANDARD
END:VTIMEZONE
BEGIN:VEVENT
DTSTART;VALUE=DATE:20180302
DTEND;VALUE=DATE:20180305
DTSTAMP:20260422T011325
CREATED:20171106T194546Z
LAST-MODIFIED:20171106T194546Z
UID:9499-1519948800-1520207999@inside.ewu.edu
SUMMARY:Lolo Hot Springs
DESCRIPTION:
URL:https://inside.ewu.edu/campusrec/event/lolo-hot-springs-2/
LOCATION:Jesssy3
END:VEVENT
END:VCALENDAR