BEGIN:VCALENDAR
VERSION:2.0
PRODID:-//Campus Recreation - ECPv5.15.0.1//NONSGML v1.0//EN
CALSCALE:GREGORIAN
METHOD:PUBLISH
X-WR-CALNAME:Campus Recreation
X-ORIGINAL-URL:https://inside.ewu.edu/campusrec
X-WR-CALDESC:Events for Campus Recreation
BEGIN:VTIMEZONE
TZID:America/Los_Angeles
BEGIN:DAYLIGHT
TZOFFSETFROM:-0800
TZOFFSETTO:-0700
TZNAME:PDT
DTSTART:20180311T100000
END:DAYLIGHT
BEGIN:STANDARD
TZOFFSETFROM:-0700
TZOFFSETTO:-0800
TZNAME:PST
DTSTART:20181104T090000
END:STANDARD
END:VTIMEZONE
BEGIN:VEVENT
DTSTART;TZID=America/Los_Angeles:20180221T183000
DTEND;TZID=America/Los_Angeles:20180221T193000
DTSTAMP:20260422T025134
CREATED:20180123T012505Z
LAST-MODIFIED:20201211T224149Z
UID:8539-1519237800-1519241400@inside.ewu.edu
SUMMARY:IEAHA Learn to Play
DESCRIPTION:
URL:https://inside.ewu.edu/campusrec/event/ieaha-learn-to-play-36/
END:VEVENT
END:VCALENDAR