BEGIN:VCALENDAR
VERSION:2.0
PRODID:-//Campus Recreation - ECPv5.15.0.1//NONSGML v1.0//EN
CALSCALE:GREGORIAN
METHOD:PUBLISH
X-WR-CALNAME:Campus Recreation
X-ORIGINAL-URL:https://inside.ewu.edu/campusrec
X-WR-CALDESC:Events for Campus Recreation
BEGIN:VTIMEZONE
TZID:America/Los_Angeles
BEGIN:DAYLIGHT
TZOFFSETFROM:-0800
TZOFFSETTO:-0700
TZNAME:PDT
DTSTART:20170312T100000
END:DAYLIGHT
BEGIN:STANDARD
TZOFFSETFROM:-0700
TZOFFSETTO:-0800
TZNAME:PST
DTSTART:20171105T090000
END:STANDARD
END:VTIMEZONE
BEGIN:VEVENT
DTSTART;TZID=America/Los_Angeles:20171213T213000
DTEND;TZID=America/Los_Angeles:20171213T224500
DTSTAMP:20260422T043403
CREATED:20171201T080838Z
LAST-MODIFIED:20201211T224152Z
UID:8494-1513200600-1513205100@inside.ewu.edu
SUMMARY:EWU Womens Practice
DESCRIPTION:
URL:https://inside.ewu.edu/campusrec/event/ewu-womens-practice-5/
END:VEVENT
END:VCALENDAR