BEGIN:VCALENDAR
VERSION:2.0
PRODID:-//Campus Recreation - ECPv5.15.0.1//NONSGML v1.0//EN
CALSCALE:GREGORIAN
METHOD:PUBLISH
X-WR-CALNAME:Campus Recreation
X-ORIGINAL-URL:https://inside.ewu.edu/campusrec
X-WR-CALDESC:Events for Campus Recreation
BEGIN:VTIMEZONE
TZID:America/Los_Angeles
BEGIN:DAYLIGHT
TZOFFSETFROM:-0800
TZOFFSETTO:-0700
TZNAME:PDT
DTSTART:20180311T100000
END:DAYLIGHT
BEGIN:STANDARD
TZOFFSETFROM:-0700
TZOFFSETTO:-0800
TZNAME:PST
DTSTART:20181104T090000
END:STANDARD
END:VTIMEZONE
BEGIN:VEVENT
DTSTART;TZID=America/Los_Angeles:20180214T213000
DTEND;TZID=America/Los_Angeles:20180214T224500
DTSTAMP:20260422T025041
CREATED:20180115T010652Z
LAST-MODIFIED:20201211T224149Z
UID:8536-1518643800-1518648300@inside.ewu.edu
SUMMARY:EWU Womens Practice
DESCRIPTION:
URL:https://inside.ewu.edu/campusrec/event/ewu-womens-practice-23/
END:VEVENT
END:VCALENDAR