BEGIN:VCALENDAR
VERSION:2.0
PRODID:-//Associated Students of EWU - ECPv5.15.0.1//NONSGML v1.0//EN
CALSCALE:GREGORIAN
METHOD:PUBLISH
X-WR-CALNAME:Associated Students of EWU
X-ORIGINAL-URL:https://inside.ewu.edu/asewu
X-WR-CALDESC:Events for Associated Students of EWU
BEGIN:VTIMEZONE
TZID:America/Los_Angeles
BEGIN:DAYLIGHT
TZOFFSETFROM:-0800
TZOFFSETTO:-0700
TZNAME:PDT
DTSTART:20240310T100000
END:DAYLIGHT
BEGIN:STANDARD
TZOFFSETFROM:-0700
TZOFFSETTO:-0800
TZNAME:PST
DTSTART:20241103T090000
END:STANDARD
END:VTIMEZONE
BEGIN:VEVENT
DTSTART;TZID=America/Los_Angeles:20240409T080000
DTEND;TZID=America/Los_Angeles:20240411T220000
DTSTAMP:20260425T203034
CREATED:20240328T162430Z
LAST-MODIFIED:20240328T162518Z
UID:35832-1712649600-1712872800@inside.ewu.edu
SUMMARY:ASEWU Elections - Primary Election
DESCRIPTION:Make your voice heard!\nASEWU’s 2024 primary elections open at 8AM Tuesday April 9 and close Thursday April 11 at 10PM. Don’t miss your chance to have a say in who represents you in 2024-2025.\nClick below or visit this link to vote: https://cglink.me/2s1/s200 \nWho: ASEWU is your student government.\nWhat: ASEWU’s Primary Elections for the 2024-2025 academic year.\nWhen: Tuesday\, 4/9 @ 8AM – Thursday\, 4/11 @ 10PM\nWhere: https://cglink.me/2s1/s200\nWhy: Because your vote counts!\n  \nAccess your ballot here: https://cglink.me/2s1/s200
URL:https://inside.ewu.edu/asewu/event/asewu-elections-primary-election/
END:VEVENT
END:VCALENDAR